BEGIN:VCALENDAR
VERSION:2.0
PRODID:-//Boletona - ECPv6.15.20//NONSGML v1.0//EN
CALSCALE:GREGORIAN
METHOD:PUBLISH
X-WR-CALNAME:Boletona
X-ORIGINAL-URL:https://boletona.com
X-WR-CALDESC:Eventos para Boletona
REFRESH-INTERVAL;VALUE=DURATION:PT1H
X-Robots-Tag:noindex
X-PUBLISHED-TTL:PT1H
BEGIN:VTIMEZONE
TZID:America/Chicago
BEGIN:DAYLIGHT
TZOFFSETFROM:-0600
TZOFFSETTO:-0500
TZNAME:CDT
DTSTART:20250309T080000
END:DAYLIGHT
BEGIN:STANDARD
TZOFFSETFROM:-0500
TZOFFSETTO:-0600
TZNAME:CST
DTSTART:20251102T070000
END:STANDARD
BEGIN:DAYLIGHT
TZOFFSETFROM:-0600
TZOFFSETTO:-0500
TZNAME:CDT
DTSTART:20260308T080000
END:DAYLIGHT
BEGIN:STANDARD
TZOFFSETFROM:-0500
TZOFFSETTO:-0600
TZNAME:CST
DTSTART:20261101T070000
END:STANDARD
BEGIN:DAYLIGHT
TZOFFSETFROM:-0600
TZOFFSETTO:-0500
TZNAME:CDT
DTSTART:20270314T080000
END:DAYLIGHT
BEGIN:STANDARD
TZOFFSETFROM:-0500
TZOFFSETTO:-0600
TZNAME:CST
DTSTART:20271107T070000
END:STANDARD
END:VTIMEZONE
BEGIN:VEVENT
DTSTART;TZID=America/Chicago:20260321T010000
DTEND;TZID=America/Chicago:20260321T130000
DTSTAMP:20260419T081111
CREATED:20260313T040632Z
LAST-MODIFIED:20260313T040632Z
UID:2326-1774054800-1774098000@boletona.com
SUMMARY:Umbral Sonoro: Festival de Equinoccio en Antigua Guatemala
DESCRIPTION:Prepárate para cruzar una frontera sensorial y espiritual en Umbral Sonoro\, el festival que redefine la celebración del equinoccio de primavera. Este 21 de marzo\, el místico escenario de San Felipe de Jesús\, en la Antigua Guatemala\, se convierte en el epicentro de una experiencia transformadora diseñada para quienes buscan algo más que un simple concierto. \nDesde la 1:00 PM\, la jornada inicia con un poderoso ritual de apertura\, una ceremonia pensada para armonizar tu energía con el ciclo solar y prepararte para una tarde de conexión absoluta. Umbral Sonoro no es solo un evento; es el nacimiento de una plataforma colectiva que celebra el talento local y la fuerza de la comunidad en un formato íntimo y curado. \nLa música será el hilo conductor que elevará el espíritu. Hemos seleccionado una cartelera de lujo con 4 bandas en vivo que te llevarán por un viaje sonoro ecléctico: desde el ritmo hipnótico de la cumbia psicodélica y la calidez del reggae\, hasta la energía desbordante del son cubano y la salsa. Cada nota está pensada para hacerte vibrar y bailar bajo el sol de la ciudad colonial. \nAdemás de la propuesta musical\, podrás explorar nuestro Mercado Curado\, un espacio donde 10 emprendimientos locales exhibirán productos únicos\, reflejando la creatividad y el diseño auténtico de nuestra región. Entre los acordes y el baile\, encontrarás espacios de experiencia diseñados para el descanso\, la introspección y el networking consciente. \nUmbral Sonoro es una invitación abierta a dejar atrás lo cotidiano y sumergirse en lo extraordinario. Los cupos son limitados para garantizar una atmósfera personal y genuina. Asegura tu lugar en esta vitrina de cultura y armonía. Ven a celebrar el inicio de un nuevo ciclo y descubre por qué este festival es el secreto mejor guardado de Antigua Guatemala. ¡Te esperamos para cruzar el umbral juntos!
URL:https://boletona.com/event/umbral-sonoro-festival-de-equinoccio-en-antigua-guatemala/
LOCATION:Rocamadour Antigua Guatemala\, Calle del hospital #71\, San Felipe\, Antigua Guatemala.\, Guatemala\, Antigua Guatemala\, 01000\, Guatemala
CATEGORIES:Antigua,Artísticas,Guatemala,Música,Pagados
ATTACH;FMTTYPE=image/jpeg:https://boletona.com/wp-content/uploads/2026/03/pexels-photo-2719301-2719301-scaled.jpg
END:VEVENT
BEGIN:VEVENT
DTSTART;TZID=America/Chicago:20260321T080000
DTEND;TZID=America/Chicago:20260321T080000
DTSTAMP:20260419T081111
CREATED:20260310T020137Z
LAST-MODIFIED:20260310T030228Z
UID:2210-1774080000-1774080000@boletona.com
SUMMARY:FireFest\, The Challenge 2026
DESCRIPTION:¿Estás listo para ser testigo de una transformación legendaria? FireFest\, The Challenge no es solo un evento; es el epicentro donde el coraje y la pasión se encuentran para crear un espectáculo fascinante e inolvidable. En esta edición\, el desafío se eleva a un nivel monumental\, ofreciendo a los asistentes en Guatemala una producción de clase mundial que promete sacudir tus sentidos desde el primer segundo. \nImagina un entorno cargado de magnetismo\, donde cada prueba y cada momento están diseñados para inspirar una victoria personal y colectiva. Este festival ha sido curado meticulosamente para ofrecer una narrativa cautivadora\, combinando elementos visuales de alto impacto con una energía electrizante que solo los eventos de esta magnitud pueden generar. Es el punto de encuentro ideal para la comunidad que busca contenido auténtico y experiencias que se quedan grabadas en la memoria para siempre. \nComo vitrina líder de los mejores espectáculos\, te traemos esta propuesta imperdible. Los asistentes podrán disfrutar de una logística pensada para el disfrute máximo\, donde la seguridad y la emoción van de la mano. La atmósfera de FireFest está imbuida de una mística irresistible\, convirtiéndolo en el plan perfecto para quienes desean escapar de la rutina y sumergirse en un desafío extraordinario. \nNo dejes que te lo cuenten. Ser parte de FireFest\, The Challenge significa ser parte de un movimiento que celebra la fuerza y la determinación. Es una invitación audaz a salir de la zona de confort y rodearse de personas que comparten tu misma chispa. La preventa y la expectativa están alcanzando niveles asombrosos\, así que asegura tu lugar en este fenómeno que está marcando tendencia en toda la región. ¡El reto te espera y la gloria es para quienes se atreven a enfrentar el fuego!
URL:https://boletona.com/event/firefest-the-challenge-2026/
LOCATION:Colegio Monte Maria\, Calzada Aguilar Batres 39-75 zona 12\, Guatemala\, Guatemala\, 01012\, Guatemala
CATEGORIES:Deportivos,Guatemala,Pagados,Zona 11 y 12
ATTACH;FMTTYPE=image/jpeg:https://boletona.com/wp-content/uploads/2026/03/g0f1c07fe1f04f678c6a9219359074ffb20df0de7a71b8bb35c8565034f6af978c5a5f47e858fb7fafa3133d06e7d7cd97b9f0e69517ff164119bc6e49bfc4252_1280-4801160.jpg
END:VEVENT
BEGIN:VEVENT
DTSTART;TZID=America/Chicago:20260321T100000
DTEND;TZID=America/Chicago:20260321T180000
DTSTAMP:20260419T081111
CREATED:20260302T212210Z
LAST-MODIFIED:20260302T212719Z
UID:1994-1774087200-1774116000@boletona.com
SUMMARY:Gran Celebración: 50 Aniversario IRTRA Petapa 2026
DESCRIPTION:¿Estás listo para vivir una experiencia mágica e inolvidable? Este 2026\, el IRTRA Petapa tira la casa por la ventana para celebrar su 50 aniversario\, y lo hace con un despliegue espectacular que no querrás perderte. Durante este evento\, el parque se transforma por completo\, ofreciendo a todas las familias guatemaltecas una oportunidad exclusiva de disfrutar sus atracciones bajo el manto de la noche. \nLa celebración de medio siglo del IRTRA Petapa no es un evento común; es una experiencia sensorial diseñada para todas las edades. Imagina recorrer tus juegos favoritos mientras el parque se ilumina con luces vibrantes\, música envolvente y una atmósfera de alegría contagiosa. Los desfiles temáticos\, preparados especialmente para esta ocasión\, llenarán de color los pasillos\, creando recuerdos que durarán toda la vida. Es la oportunidad perfecta para capturar fotografías increíbles\, disfrutar de una velada fresca y celebrar la trayectoria de uno de los lugares más emblemáticos de Guatemala. \nCLARINETE \nSábado 7\,14\,21\,28\nDomingo 8\,15\,22\,29\n16:00 a 18:00 hrs.\nRecorrido por el parque. \nFIESTA LATINA \nSábado 7\,14\,21\,28\n14:00 a 16:00 hrs. \nSHOW FAMILIAR \nSábado 7\,14\,21\,28\nDomingo 8\,15\,22\,29\n10:00 a 12:00 hrs. La Ceiba \nFEVER JAZZ \nSábado 7\,14\,21\,28\n16:00 a 18:30 hrs. La Ceiba \nYa sea que busques una cita diferente\, una salida divertida con amigos o el plan perfecto para conectar con tu familia\, el Aniversario IRTRA Petapa 2026 se posiciona como el evento imperdible de la temporada. La combinación de la adrenalina de los juegos mecánicos con la belleza de las actividades nocturnas hace que esta jornada sea totalmente única. \nNota importante para nuestros lectores: En esta plataforma somos una vitrina informativa. Nuestro objetivo es mantenerte al tanto de los mejores eventos en Guatemala. Te recordamos que no realizamos la venta directa de entradas ni gestionamos la taquilla de este evento. Te recomendamos verificar siempre los canales oficiales del IRTRA para adquirir tus boletos y confirmar los horarios específicos de las actividades\, asegurando así tu cupo en esta celebración histórica. \n¡No dejes pasar esta oportunidad! Planifica tu visita\, invita a tus personas favoritas y prepárate para ser parte de la historia en el 50 aniversario del IRTRA Petapa. ¡Será una noche legendaria!
URL:https://boletona.com/event/aniversario-irtra-petapa-2026-2-2/
LOCATION:Irtra petapa\, Av. Petapa 42-36\, Guatemala\, Guatemala\, 01012\, Guatemala
CATEGORIES:Artísticas,Expo / Empresas,Familiar,Guatemala,Infantil,Pagados,Teatro,Zona 11 y 12
ATTACH;FMTTYPE=image/jpeg:https://boletona.com/wp-content/uploads/2026/03/pexels-photo-30268814-30268814-scaled.jpg
END:VEVENT
BEGIN:VEVENT
DTSTART;TZID=America/Chicago:20260321T180000
DTEND;TZID=America/Chicago:20260321T180000
DTSTAMP:20260419T081111
CREATED:20260310T032144Z
LAST-MODIFIED:20260310T032144Z
UID:2215-1774116000-1774116000@boletona.com
SUMMARY:Tigo Music Tour - Puerto San José 2026
DESCRIPTION:¡Prepárate para la experiencia definitiva del verano! El Tigo Music Tour – Puerto San José 2026 no es solo un concierto; es el epicentro de la adrenalina\, el ritmo y la diversión en la costa guatemalteca. Este año\, la arena del Puerto San José vibrará bajo tus pies con un despliegue técnico y artístico sin precedentes que promete marcar un antes y un después en los eventos de la temporada. \nImagina esto: el sol ocultándose en el horizonte\, la brisa marina y miles de voces unidas en un solo coro mientras tus artistas favoritos suben al escenario para ofrecer un espectáculo monumental. Contaremos con una alineación de lujo que combina los géneros más movidos del momento\, garantizando una noche inolvidable llena de euforia y momentos que querrás repetir una y otra vez. \nEl evento ha sido diseñado para ofrecerte la máxima comodidad y seguridad. Contaremos con áreas de experiencia exclusivas\, zonas de descanso\, y por supuesto\, la tecnología de conectividad más avanzada para que compartas cada segundo de este épico festival en tiempo real. La logística está pensada para que tú solo te preocupes por disfrutar\, bailar y dejarte llevar por la magia de la música en directo. \nEste es el momento de reunir a tu grupo de amigos y asegurar su lugar en el evento más exclusivo y esperado del año. Las entradas para el Tigo Music Tour suelen agotarse en tiempo récord debido a su alta demanda y la calidad de su producción. No permitas que te lo cuenten; sé parte de la leyenda y vive un verano extraordinario en el Puerto San José. \nRecuerda que en Boletona actuamos como vitrina promocional para que no te pierdas ningún detalle de los mejores eventos en Guatemala. ¡La cuenta regresiva ha comenzado! Prepárate para una noche de puro fuego y pasión musical bajo las estrellas del Pacífico.
URL:https://boletona.com/event/tigo-music-tour-puerto-san-jose-2026/
LOCATION:Estadio Vicente Arevalo Pto. San Jose\, Av. del Comercio\, Puerto San José\, Guatemala\, Escuintla\, Guatemala
CATEGORIES:Escénicas,Guatemala,Música,Pagados
ATTACH;FMTTYPE=image/jpeg:https://boletona.com/wp-content/uploads/2026/03/pexels-photo-15921581-15921581-scaled.jpg
END:VEVENT
BEGIN:VEVENT
DTSTART;TZID=America/Chicago:20260321T190000
DTEND;TZID=America/Chicago:20260321T190000
DTSTAMP:20260419T081111
CREATED:20260319T040609Z
LAST-MODIFIED:20260319T040609Z
UID:2343-1774119600-1774119600@boletona.com
SUMMARY:Homenaje a Willie Colón por Ensamble Latino
DESCRIPTION:¡Prepárate para una noche legendaria de ritmo\, historia y puro sabor latino! Guatemala se viste de gala para recibir un tributo de altura: el Homenaje a Willie Colón\, interpretado magistralmente por la agrupación Ensamble Latino. Este no es solo un concierto; es una experiencia sensorial diseñada para transportarte a las raíces de la salsa brava y celebrar la trayectoria de uno de los íconos más influyentes de la música tropical. \nEl escenario de Trovajazz será el epicentro de la nostalgia y la energía\, donde los asistentes podrán disfrutar de una interpretación en vivo con una calidad musical excepcional. Willie Colón\, conocido como «El Malo»\, transformó la música latina con su trombón y sus composiciones narrativas; ahora\, Ensamble Latino asume el reto de revivir esos clásicos que marcaron generaciones y que\, a día de hoy\, siguen siendo los favoritos en cualquier pista de baile a nivel mundial. \nEsta es la cita perfecta para los verdaderos amantes de la salsa\, los coleccionistas de momentos musicales y aquellos que buscan disfrutar de un ambiente íntimo pero vibrante en el corazón de la Zona 4. La pasión de los músicos en escena garantiza un espectáculo vibrante que rinde honores al legado del maestro Colón con respeto y un talento deslumbrante. \nDetalles del Evento: \n\n\nFecha: Sábado 21 de marzo. \n\n\nHora: 19:00 horas. \n\n\nUbicación: Trovajazz (Vía 6\, 3-55 Zona 4\, Ciudad de Guatemala). \n\n\nNo dejes pasar la oportunidad de ser parte de este reconocimiento musical. Es una producción exclusiva de Ensamble Latino que promete una velada de baile\, canto y mucha hermandad salsera. Recuerda que las compras de dos personas o menos compartirán mesa y los asientos se asignan conforme al orden de compra\, ¡así que adquiere tus entradas de forma inmediata para asegurar la mejor ubicación!
URL:https://boletona.com/event/homenaje-a-willie-colon-por-ensamble-latino/
LOCATION:Trovajazz\, Via 6\, 3-55 zona 4\, Guatemala\, Guatemala\, 01004\, Guatemala
CATEGORIES:Guatemala,Música,Pagados,Zona 4
ATTACH;FMTTYPE=image/jpeg:https://boletona.com/wp-content/uploads/2026/03/pexels-photo-270789-270789-scaled.jpg
END:VEVENT
BEGIN:VEVENT
DTSTART;TZID=America/Chicago:20260321T200000
DTEND;TZID=America/Chicago:20260321T200000
DTSTAMP:20260419T081111
CREATED:20260310T032952Z
LAST-MODIFIED:20260310T033533Z
UID:2220-1774123200-1774123200@boletona.com
SUMMARY:Las Damitas Histeria: Tour 2026 en Guatemala
DESCRIPTION:¡El fenómeno que estabas esperando finalmente tiene fecha en el calendario guatemalteco! Las Damitas Histeria regresan a los escenarios con su gira 2026\, prometiendo una velada fascinante donde la música\, el performance y la conexión con el público alcanzan un nivel magistral. Este no es solo un concierto; es una catarsis colectiva diseñada para quienes buscan experiencias auténticas y cargadas de adrenalina. \nDesde su irrupción en la escena\, este grupo ha demostrado una capacidad asombrosa para reinventarse\, y este nuevo show en Guatemala es la prueba definitiva de su evolución artística. Los asistentes serán testigos de un despliegue técnico impresionante\, con una calidad de sonido e iluminación que garantiza una atmósfera envolvente desde el primer segundo. Es el momento perfecto para reunir a tus amigos y asegurar su lugar en lo que será\, sin duda\, el evento más comentado del año. \nLa energía que desprenden sobre el escenario es simplemente irresistible. Cada acorde y cada coreografía están pensados para generar un impacto profundo\, convirtiendo el recinto en un espacio de libertad y celebración absoluta. Si buscas un plan extraordinario para romper la rutina\, asistir a «Las Damitas Histeria» es una decisión ganadora. La demanda es altísima y la expectativa crece minuto a minuto; ser parte de este tour es un privilegio que pocos podrán contar. \nRecuerda que en esta ocasión actuamos como una vitrina promocional para que no te pierdas ningún detalle de la agenda cultural en Guatemala. Te invitamos a estar atento a todas las actualizaciones para que garantices tu acceso a esta noche gloriosa. ¡No dejes que te lo cuenten\, vive la intensidad de Las Damitas Histeria en carne propia!
URL:https://boletona.com/event/las-damitas-histeria-tour-2026-en-guatemala/
LOCATION:Teatro Lux\, CCE Guatemala\, 2do\, Edificio LUX\, Nivel 11-02\, Guatemala\, Guatemala\, 01001\, Guatemala
CATEGORIES:Artísticas,Comedia,Escénicas,General,Guatemala,Pagados,Zona 1
ATTACH;FMTTYPE=image/jpeg:https://boletona.com/wp-content/uploads/2026/03/pexels-photo-36276426-36276426-scaled.jpg
END:VEVENT
BEGIN:VEVENT
DTSTART;TZID=America/Chicago:20260321T200000
DTEND;TZID=America/Chicago:20260321T213000
DTSTAMP:20260419T081111
CREATED:20260302T044416Z
LAST-MODIFIED:20260302T044416Z
UID:1964-1774123200-1774128600@boletona.com
SUMMARY:Defendiendo al Cavernícola: ¡La comedia imperdible que te hará reír a carcajadas!
DESCRIPTION:¿Alguna vez te has preguntado por qué hombres y mujeres parecen hablar idiomas distintos? «Defendiendo al Cavernícola» llega a La Estancia Plazuela (Zona 9) para responder esta y muchas otras interrogantes de la forma más divertida posible. \nEste monólogo aclamado mundialmente es mucho más que una obra de teatro; es una experiencia de reconocimiento mutuo que ha cautivado a miles de parejas y terapeutas por igual. Prepárate para una velada cargada de humor inteligente\, situaciones cotidianas con las que te identificarás de inmediato y ese toque de picardía que hace que el público termine la función con una sonrisa y\, posiblemente\, tomados de la mano. ¡No te pierdas esta oportunidad única de disfrutar de la comedia más honesta sobre las relaciones humanas en la ciudad!
URL:https://boletona.com/event/defendiendo-al-cavernicola-3-2/
LOCATION:La estancia zona 9\, Avenida Reforma 8-89.\, Guatemala\, Guatemala\, 01001\, Guatemala
CATEGORIES:Comedia,Escénicas,Guatemala,Pagados,Teatro,Zona 9 y 10
ATTACH;FMTTYPE=image/jpeg:https://boletona.com/wp-content/uploads/2026/03/gc69e467fc87fe2319582d510744b5a4693262dd92feec105762288cc9859d79a7c0d92d5fa9ae526834d26214d1fa4c25b00dcdade4eac1a6e9df77ee9d2e332_1280-4731923.jpg
END:VEVENT
END:VCALENDAR