BEGIN:VCALENDAR
VERSION:2.0
PRODID:-//Boletona - ECPv6.15.20//NONSGML v1.0//EN
CALSCALE:GREGORIAN
METHOD:PUBLISH
X-WR-CALNAME:Boletona
X-ORIGINAL-URL:https://boletona.com
X-WR-CALDESC:Eventos para Boletona
REFRESH-INTERVAL;VALUE=DURATION:PT1H
X-Robots-Tag:noindex
X-PUBLISHED-TTL:PT1H
BEGIN:VTIMEZONE
TZID:America/Chicago
BEGIN:DAYLIGHT
TZOFFSETFROM:-0600
TZOFFSETTO:-0500
TZNAME:CDT
DTSTART:20250309T080000
END:DAYLIGHT
BEGIN:STANDARD
TZOFFSETFROM:-0500
TZOFFSETTO:-0600
TZNAME:CST
DTSTART:20251102T070000
END:STANDARD
BEGIN:DAYLIGHT
TZOFFSETFROM:-0600
TZOFFSETTO:-0500
TZNAME:CDT
DTSTART:20260308T080000
END:DAYLIGHT
BEGIN:STANDARD
TZOFFSETFROM:-0500
TZOFFSETTO:-0600
TZNAME:CST
DTSTART:20261101T070000
END:STANDARD
BEGIN:DAYLIGHT
TZOFFSETFROM:-0600
TZOFFSETTO:-0500
TZNAME:CDT
DTSTART:20270314T080000
END:DAYLIGHT
BEGIN:STANDARD
TZOFFSETFROM:-0500
TZOFFSETTO:-0600
TZNAME:CST
DTSTART:20271107T070000
END:STANDARD
END:VTIMEZONE
BEGIN:VEVENT
DTSTART;TZID=America/Chicago:20260311T150000
DTEND;TZID=America/Chicago:20260311T150000
DTSTAMP:20260419T094229
CREATED:20260305T012807Z
LAST-MODIFIED:20260305T012807Z
UID:2057-1773241200-1773241200@boletona.com
SUMMARY:Las Voces del Silencio en Guatemala 2026: Una Exposición Sublime
DESCRIPTION:Las Voces del Silencio en Guatemala es la nueva y fascinante exposición del artista Jocelyn Akwaba Matignon\, quien llega desde Francia-Guadalupe para compartir su visión artística en el Museo Popol Vuh. Esta muestra es un viaje profundo y mágico que reúne la mirada contemporánea del autor con el patrimonio histórico\, creando un diálogo único que no te puedes perder. \nAsistir a la visita guiada de Las Voces del Silencio en Guatemala te permitirá explorar el concepto detrás de cada obra de la mano del propio artista. Es una oportunidad extraordinaria para entender cómo el silencio puede comunicar verdades auténticas y poderosas\, todo dentro del entorno majestuoso de la Universidad Francisco Marroquín. \nDetalles de «Las Voces del Silencio»\nLa exposición de Las Voces del Silencio en Guatemala destaca por su capacidad de conectar la arqueología con el arte moderno. Gracias a la gestión de la Alianza Francesa\, el público guatemalteco tiene acceso a este evento significativo que enriquece la agenda cultural de la zona 10. \n¿Por qué visitar esta exposición?\n\nPerspectiva Internacional: Las Voces del Silencio en Guatemala trae el talento de Francia-Guadalupe a nuestra tierra.\nVisita Guiada Exclusiva: Conoce los detalles de la obra de forma directa y brillante este miércoles 11 de marzo.\nEntorno Prestigioso: El Museo Popol Vuh es el escenario perfecto y majestuoso para esta muestra memorable.\n\nBoletona.com es tu plataforma para seguir los detalles de Las Voces del Silencio en Guatemala. Te invitamos a asegurar tu registro para esta visita guiada\, una experiencia formidable que transformará tu manera de percibir el arte contemporáneo.
URL:https://boletona.com/event/las-voces-del-silencio/
LOCATION:Museo Popol Vuh\, Interior Universidad Francisco Marroquín\, Diag. 6 Final\, Guatemala\, Guatemala\, 01010\, Guatemala
CATEGORIES:Artísticas,Expo / Empresas,Familiar,Guatemala,Pagados,Zona 9 y 10
ATTACH;FMTTYPE=image/jpeg:https://boletona.com/wp-content/uploads/2026/03/voces-del-silencio-11.jpg
END:VEVENT
END:VCALENDAR