BEGIN:VCALENDAR
VERSION:2.0
PRODID:-//Boletona - ECPv6.15.20//NONSGML v1.0//EN
CALSCALE:GREGORIAN
METHOD:PUBLISH
X-WR-CALNAME:Boletona
X-ORIGINAL-URL:https://boletona.com
X-WR-CALDESC:Eventos para Boletona
REFRESH-INTERVAL;VALUE=DURATION:PT1H
X-Robots-Tag:noindex
X-PUBLISHED-TTL:PT1H
BEGIN:VTIMEZONE
TZID:America/Chicago
BEGIN:DAYLIGHT
TZOFFSETFROM:-0600
TZOFFSETTO:-0500
TZNAME:CDT
DTSTART:20250309T080000
END:DAYLIGHT
BEGIN:STANDARD
TZOFFSETFROM:-0500
TZOFFSETTO:-0600
TZNAME:CST
DTSTART:20251102T070000
END:STANDARD
BEGIN:DAYLIGHT
TZOFFSETFROM:-0600
TZOFFSETTO:-0500
TZNAME:CDT
DTSTART:20260308T080000
END:DAYLIGHT
BEGIN:STANDARD
TZOFFSETFROM:-0500
TZOFFSETTO:-0600
TZNAME:CST
DTSTART:20261101T070000
END:STANDARD
BEGIN:DAYLIGHT
TZOFFSETFROM:-0600
TZOFFSETTO:-0500
TZNAME:CDT
DTSTART:20270314T080000
END:DAYLIGHT
BEGIN:STANDARD
TZOFFSETFROM:-0500
TZOFFSETTO:-0600
TZNAME:CST
DTSTART:20271107T070000
END:STANDARD
END:VTIMEZONE
BEGIN:VEVENT
DTSTART;TZID=America/Chicago:20260314T190000
DTEND;TZID=America/Chicago:20260314T190000
DTSTAMP:20260425T125806
CREATED:20260306T003404Z
LAST-MODIFIED:20260306T003442Z
UID:2126-1773514800-1773514800@boletona.com
SUMMARY:Tributo Grandes Divas con Aurie Cano: Una Noche de Gala en El Cielo
DESCRIPTION:Tributo Grandes Divas con Aurie Cano es la cita ideal para quienes buscan una velada elegante y llena de sentimiento. El próximo 14 de marzo\, el bar El Cielo se transformará en el escenario perfecto para que la potente voz de Aurie Cano reviva los éxitos más emblemáticos de las leyendas de la música\, en un formato íntimo. \nLa experiencia de Tributo Grandes Divas con Aurie Cano va más allá de lo musical\, ya que tu entrada incluye una propuesta gastronómica impecable. Disfrutarás de un plato fuerte y un postre de alta calidad mientras te dejas envolver por una interpretación brillante y vibrante que celebra la fuerza y el talento de las mayores divas de todos los tiempos. \nUna Velada Gastronómica y Musical\nEl evento Tributo Grandes Divas con Aurie Cano destaca por su ambiente acogedor y su atención al detalle. Es una oportunidad excepcional para compartir con amigos o en pareja\, asegurando un lugar en una de las terrazas más espectaculares de la ciudad mientras se rinde honor a voces inolvidables. \nDetalles de Inversión y Beneficios\n\n\nPrecios Especiales: Disfruta de una tarifa de Q115 por persona al reservar para mesas de 5 o más integrantes. \n\n\nPreventa Individual: Asegura tu espacio por solo Q125 adquiriendo tu entrada con anticipación. \n\n\nDía del Evento: El costo será de Q150 el mismo sábado 14 de marzo. \n\n\nPaquete Incluido: Cada boleto garantiza tu entrada\, un delicioso plato fuerte y postre. \n\n\nBoletona.com te invita a no perderte esta noche mágica y profunda. Tributo Grandes Divas con Aurie Cano promete ser un encuentro fascinante donde la buena música y el buen comer se encuentran en lo más alto.
URL:https://boletona.com/event/tributo-grandes-divas-con-aurie-cano/
LOCATION:El Cielo\, interior Granja Lucita\, Carr. Interamericana\, Santiago Sacatepéquez 03006\, Santiago\, Sacatepéquez\, 03006\, Guatemala
CATEGORIES:Antigua,Guatemala,Música,Pagados,Tributo
ATTACH;FMTTYPE=image/png:https://boletona.com/wp-content/uploads/2026/03/aurie2.png
END:VEVENT
BEGIN:VEVENT
DTSTART;TZID=America/Chicago:20260324T183000
DTEND;TZID=America/Chicago:20260324T183000
DTSTAMP:20260425T125806
CREATED:20260305T015427Z
LAST-MODIFIED:20260305T015500Z
UID:2079-1774377000-1774377000@boletona.com
SUMMARY:Fiesta de la Francofonía en Guatemala: Un Evento Único y Gratuito
DESCRIPTION:La Fiesta de la Francofonía en Guatemala llega este 24 de marzo al jardín de la Alianza Francesa para celebrar la diversidad y la unión a través de la lengua francesa. Este evento\, de escala mundial\, ofrece una experiencia extraordinaria donde la cultura\, la gastronomía y la música se fusionan en una noche memorable para compartir con toda la familia y amigos. \nDurante la Fiesta de la Francofonía en Guatemala\, los asistentes podrán disfrutar de una logística impecable que incluye juegos tradicionales franceses\, dinámicas participativas y un cóctel de bienvenida. Además\, gracias al apoyo de Cervecería Zapote\, habrá bebidas de cortesía para brindar en un ambiente auténtico y vibrante. \nConcierto de Cierre: Homenaje a Édith Piaf\nEl momento más espectacular de la noche será el concierto de Un Air\, Deux Mômes a las 20:00 horas. Esta agrupación rendirá un tributo sublime a la legendaria Édith Piaf\, considerada el monumento de la chanson française. Es una oportunidad única para deleitarse con un estilo mágico y conmovedor en el corazón de la zona 13. \n¿Por qué no te puedes perder esta fiesta?\n\n\nCultura en Vivo: La Fiesta de la Francofonía en Guatemala es la plataforma perfecta para sumergirse en las tradiciones francesas de forma divertida. \n\n\nEntrada Gratuita: Se trata de un evento oficial de acceso libre\, garantizando una noche fabulosa sin costo de entrada. \n\n\nAmbiente Familiar: El jardín de la Alianza Francesa ofrece un entorno majestuoso y seguro para disfrutar de una velada fantástica. \n\n\nBoletona.com es tu sitio líder para conocer todos los detalles de la Fiesta de la Francofonía en Guatemala. Prepárate para vivir una noche brillante llena de música\, sabor y la mejor energía francófona del país.
URL:https://boletona.com/event/fiesta-de-la-francofonia/
LOCATION:Alianza Francesa – Guatemala\, 5 calle 10-55 zona 13\, Finca la Aurora\, Guatemala\, Guatemala\, 01013\, Guatemala
CATEGORIES:Expo / Empresas,Familiar,General,Gratuitos,Guatemala,Música,Tributo,Zona 13 y 14
ATTACH;FMTTYPE=image/jpeg:https://boletona.com/wp-content/uploads/2026/03/FRANCOFONIA-post_13.jpg
END:VEVENT
END:VCALENDAR