BEGIN:VCALENDAR
VERSION:2.0
PRODID:-//Boletona - ECPv6.15.20//NONSGML v1.0//EN
CALSCALE:GREGORIAN
METHOD:PUBLISH
X-WR-CALNAME:Boletona
X-ORIGINAL-URL:https://boletona.com
X-WR-CALDESC:Eventos para Boletona
REFRESH-INTERVAL;VALUE=DURATION:PT1H
X-Robots-Tag:noindex
X-PUBLISHED-TTL:PT1H
BEGIN:VTIMEZONE
TZID:America/Chicago
BEGIN:DAYLIGHT
TZOFFSETFROM:-0600
TZOFFSETTO:-0500
TZNAME:CDT
DTSTART:20250309T080000
END:DAYLIGHT
BEGIN:STANDARD
TZOFFSETFROM:-0500
TZOFFSETTO:-0600
TZNAME:CST
DTSTART:20251102T070000
END:STANDARD
BEGIN:DAYLIGHT
TZOFFSETFROM:-0600
TZOFFSETTO:-0500
TZNAME:CDT
DTSTART:20260308T080000
END:DAYLIGHT
BEGIN:STANDARD
TZOFFSETFROM:-0500
TZOFFSETTO:-0600
TZNAME:CST
DTSTART:20261101T070000
END:STANDARD
BEGIN:DAYLIGHT
TZOFFSETFROM:-0600
TZOFFSETTO:-0500
TZNAME:CDT
DTSTART:20270314T080000
END:DAYLIGHT
BEGIN:STANDARD
TZOFFSETFROM:-0500
TZOFFSETTO:-0600
TZNAME:CST
DTSTART:20271107T070000
END:STANDARD
END:VTIMEZONE
BEGIN:VEVENT
DTSTART;TZID=America/Chicago:20260510T140000
DTEND;TZID=America/Chicago:20260510T140000
DTSTAMP:20260425T091726
CREATED:20260330T203312Z
LAST-MODIFIED:20260330T204225Z
UID:2395-1778421600-1778421600@boletona.com
SUMMARY:LOS GALOS: Gira "Nuestro Tiempo"
DESCRIPTION:Un viaje al corazón de la nostalgia con Los Galos\n¿Alguna vez has sentido que una canción tiene el poder de detener el tiempo? Prepárate para una velada cargada de sentimientos\, porque la leyenda de la música romántica\, Los Galos\, llega a Guatemala con su aclamada gira internacional «Nuestro Tiempo». Este no es solo un concierto; es una oportunidad única para revivir la magia de una época donde las baladas dominaban el aire y las letras calaban hondo en el alma. \nDesde sus inicios\, este grupo chileno ha sido el estandarte del romanticismo en toda América Latina y Estados Unidos. Con su estilo inconfundible\, han logrado que temas como «Como deseo ser tu amor»\, «Un minuto de tu amor» y «Canción para una esposa triste» se conviertan en himnos intergeneracionales. En esta presentación especial\, el escenario se transformará en una cápsula del tiempo donde las melodías que forman parte de nuestra memoria colectiva volverán a vibrar con la misma intensidad de ayer. \nUna experiencia musical completa La noche comenzará a elevar las emociones desde temprano. Las puertas abrirán a las 7:00 p. m. para recibir a los asistentes en un ambiente de elegancia y confort. A las 8:00 p. m.\, el talento nacional tomará el protagonismo con la presentación del grupo guatemalteco Remembranzas\, quienes prepararán el terreno con un repertorio diseñado para calentar los corazones. \nEl momento cumbre llegará a las 10:00 p. m.\, cuando Los Galos suban a escena. Con una producción impecable\, el grupo interpretará sus más grandes éxitos junto a una selección de canciones emblemáticas de artistas con quienes compartieron los escenarios más importantes del continente. Es la promesa de un espectáculo fascinante donde cada nota será un abrazo al pasado y cada aplauso un tributo a la vigencia del buen amor. \nSeguridad y comodidad para ti Sabemos que tu tranquilidad es prioridad. Por ello\, el evento cuenta con parqueo disponible y seguro para que solo te preocupes por disfrutar. Ya sea que vengas acompañado de tu pareja de toda la vida o que desees compartir este legado musical con las nuevas generaciones\, esta gala promete ser el evento del año para los amantes de la buena música. \nNo dejes pasar la oportunidad de ser parte de esta historia. Asegura tu lugar en una noche donde el romance\, los recuerdos y la calidad interpretativa de Los Galos demostrarán que su música\, efectivamente\, es para todos los tiempos.
URL:https://boletona.com/event/los-galos-gira-nuestro-tiempo-2-2/
LOCATION:San Bartolomé Milpas Altas\, J85C+74W San Bartolomé Milpas Altas\, Guatemala
CATEGORIES:Escénicas,Guatemala,Música,Pagados,Zona 9 y 10
ATTACH;FMTTYPE=image/jpeg:https://boletona.com/wp-content/uploads/2026/03/gad316c669180cad711ffdc920a5c3cde0e35db3501ce813b8d3c6eff617c538bf53ec08dad0189860c67880ed0bba18886885f7e5ae3563d2d3599b6e5385a97_1280-2505097.jpg
END:VEVENT
END:VCALENDAR