BEGIN:VCALENDAR
VERSION:2.0
PRODID:-//Boletona - ECPv6.15.20//NONSGML v1.0//EN
CALSCALE:GREGORIAN
METHOD:PUBLISH
X-ORIGINAL-URL:https://boletona.com
X-WR-CALDESC:Eventos para Boletona
REFRESH-INTERVAL;VALUE=DURATION:PT1H
X-Robots-Tag:noindex
X-PUBLISHED-TTL:PT1H
BEGIN:VTIMEZONE
TZID:America/Chicago
BEGIN:DAYLIGHT
TZOFFSETFROM:-0600
TZOFFSETTO:-0500
TZNAME:CDT
DTSTART:20250309T080000
END:DAYLIGHT
BEGIN:STANDARD
TZOFFSETFROM:-0500
TZOFFSETTO:-0600
TZNAME:CST
DTSTART:20251102T070000
END:STANDARD
BEGIN:DAYLIGHT
TZOFFSETFROM:-0600
TZOFFSETTO:-0500
TZNAME:CDT
DTSTART:20260308T080000
END:DAYLIGHT
BEGIN:STANDARD
TZOFFSETFROM:-0500
TZOFFSETTO:-0600
TZNAME:CST
DTSTART:20261101T070000
END:STANDARD
BEGIN:DAYLIGHT
TZOFFSETFROM:-0600
TZOFFSETTO:-0500
TZNAME:CDT
DTSTART:20270314T080000
END:DAYLIGHT
BEGIN:STANDARD
TZOFFSETFROM:-0500
TZOFFSETTO:-0600
TZNAME:CST
DTSTART:20271107T070000
END:STANDARD
END:VTIMEZONE
BEGIN:VEVENT
DTSTART;TZID=America/Chicago:20260328T050000
DTEND;TZID=America/Chicago:20260328T170000
DTSTAMP:20260425T073439
CREATED:20260307T000621Z
LAST-MODIFIED:20260307T022008Z
UID:2169-1774674000-1774717200@boletona.com
SUMMARY:Cortometrajes de la VIII Muestra de Cine Hecho por Mujeres.
DESCRIPTION:Cortometrajes de la VIII Muestra de Cine Hecho por Mujeres\nLa clausura de la Muestra de Cine Hecho por Mujeres en Guatemala es una celebración vibrante del talento regional. Al aire libre\, se presentarán cortometrajes que exploran la identidad\, la denuncia y la creatividad de cineastas guatemaltecas y salvadoreñas. Un evento majestuoso y gratuito ideal para disfrutar en comunidad. \n\nObras a Proyectar: \n\nNo soy de aquí (Vanessa Martínez\, Guatemala).\nNo está a la venta (Alejandra Pinto\, El Salvador).\nLimón Ácido (Sofía Vásquez Gatica\, Guatemala).\nAl filo del cielo (María Jimena Asencio\, Guatemala).\nTémperas (Yasmin Valdés\, Guatemala).\n\nATENCIÓN\n\n\n\nEntrada: Gratuita en todas las funciones.\nOrganiza: AGACINE junto al CCEG y Alianza Francesa.\nReservas e Información: Consulta el sitio oficial cinehechopormujeres.com o cceguatemala.aecid.es.
URL:https://boletona.com/event/cortometrajes-de-la-viii-muestra/
LOCATION:Centro Cultural de España en Guatemala\, Edificio LUX\, Nivel 11-02\, Cdad. de Guatemala 01001\, Guatemala\, Guatemala\, 01001\, Guatemala
CATEGORIES:Cine,Expo / Empresas,General,Gratuitos,Guatemala,Zona 1
ATTACH;FMTTYPE=image/jpeg:https://boletona.com/wp-content/uploads/2026/03/pexels-photo-7991579-7991579-scaled.jpg
END:VEVENT
BEGIN:VEVENT
DTSTART;TZID=America/Chicago:20260328T100000
DTEND;TZID=America/Chicago:20260328T180000
DTSTAMP:20260425T073439
CREATED:20260302T212210Z
LAST-MODIFIED:20260302T212830Z
UID:1996-1774692000-1774720800@boletona.com
SUMMARY:Gran Celebración: 50 Aniversario IRTRA Petapa 2026
DESCRIPTION:¿Estás listo para vivir una experiencia mágica e inolvidable? Este 2026\, el IRTRA Petapa tira la casa por la ventana para celebrar su 50 aniversario\, y lo hace con un despliegue espectacular que no querrás perderte. Durante este evento\, el parque se transforma por completo\, ofreciendo a todas las familias guatemaltecas una oportunidad exclusiva de disfrutar sus atracciones bajo el manto de la noche. \nLa celebración de medio siglo del IRTRA Petapa no es un evento común; es una experiencia sensorial diseñada para todas las edades. Imagina recorrer tus juegos favoritos mientras el parque se ilumina con luces vibrantes\, música envolvente y una atmósfera de alegría contagiosa. Los desfiles temáticos\, preparados especialmente para esta ocasión\, llenarán de color los pasillos\, creando recuerdos que durarán toda la vida. Es la oportunidad perfecta para capturar fotografías increíbles\, disfrutar de una velada fresca y celebrar la trayectoria de uno de los lugares más emblemáticos de Guatemala. \nCLARINETE \nSábado 7\,14\,21\,28\nDomingo 8\,15\,22\,29\n16:00 a 18:00 hrs.\nRecorrido por el parque. \nFIESTA LATINA \nSábado 7\,14\,21\,28\n14:00 a 16:00 hrs. \nSHOW FAMILIAR \nSábado 7\,14\,21\,28\nDomingo 8\,15\,22\,29\n10:00 a 12:00 hrs. La Ceiba \nFEVER JAZZ \nSábado 7\,14\,21\,28\n16:00 a 18:30 hrs. La Ceiba \nYa sea que busques una cita diferente\, una salida divertida con amigos o el plan perfecto para conectar con tu familia\, el Aniversario IRTRA Petapa 2026 se posiciona como el evento imperdible de la temporada. La combinación de la adrenalina de los juegos mecánicos con la belleza de las actividades nocturnas hace que esta jornada sea totalmente única. \nNota importante para nuestros lectores: En esta plataforma somos una vitrina informativa. Nuestro objetivo es mantenerte al tanto de los mejores eventos en Guatemala. Te recordamos que no realizamos la venta directa de entradas ni gestionamos la taquilla de este evento. Te recomendamos verificar siempre los canales oficiales del IRTRA para adquirir tus boletos y confirmar los horarios específicos de las actividades\, asegurando así tu cupo en esta celebración histórica. \n¡No dejes pasar esta oportunidad! Planifica tu visita\, invita a tus personas favoritas y prepárate para ser parte de la historia en el 50 aniversario del IRTRA Petapa. ¡Será una noche legendaria!
URL:https://boletona.com/event/aniversario-irtra-petapa-2026-2-2-2/
LOCATION:Irtra petapa\, Av. Petapa 42-36\, Guatemala\, Guatemala\, 01012\, Guatemala
CATEGORIES:Artísticas,Expo / Empresas,Familiar,Guatemala,Infantil,Pagados,Teatro,Zona 11 y 12
ATTACH;FMTTYPE=image/jpeg:https://boletona.com/wp-content/uploads/2026/03/pexels-photo-30268814-30268814-scaled.jpg
END:VEVENT
BEGIN:VEVENT
DTSTART;TZID=America/Chicago:20260328T153000
DTEND;TZID=America/Chicago:20260328T153000
DTSTAMP:20260425T073439
CREATED:20260311T043034Z
LAST-MODIFIED:20260311T043358Z
UID:2279-1774711800-1774711800@boletona.com
SUMMARY:Pirate Wood Painting
DESCRIPTION:Pirate Wood Painting es la actividad fenomenal que cierra el mes de marzo en Parque Las Américas. El 28 de marzo a las 3:30 PM\, los niños podrán pintar sus tesoros de madera en Plaza Faroles. Boletona te invita a este evento espectacular donde la imaginación no tiene límites. \nEl taller Pirate Wood Painting utiliza materiales de alta calidad para que cada niño cree una obra magnífica. Es una tarde de felicidad garantizada y\, lo mejor de todo\, es una actividad gratuita. ¡Únete a la tripulación más creativa de Guatemala
URL:https://boletona.com/event/pirate-wood-painting/
LOCATION:Centro Comercial Parque las Américas\, Avenida Las Americas 6-69\, Cdad. de Guatemala\, Guatemala\, Guatemala\, 0101\, Guatemala
CATEGORIES:Familiar,Gratuitos,Guatemala,Infantil,Zona 13 y 14
ATTACH;FMTTYPE=image/jpeg:https://boletona.com/wp-content/uploads/2026/03/pexels-photo-15595153-15595153-scaled.jpg
END:VEVENT
END:VCALENDAR