BEGIN:VCALENDAR
VERSION:2.0
PRODID:-//Boletona - ECPv6.15.20//NONSGML v1.0//EN
CALSCALE:GREGORIAN
METHOD:PUBLISH
X-WR-CALNAME:Boletona
X-ORIGINAL-URL:https://boletona.com
X-WR-CALDESC:Eventos para Boletona
REFRESH-INTERVAL;VALUE=DURATION:PT1H
X-Robots-Tag:noindex
X-PUBLISHED-TTL:PT1H
BEGIN:VTIMEZONE
TZID:America/Chicago
BEGIN:DAYLIGHT
TZOFFSETFROM:-0600
TZOFFSETTO:-0500
TZNAME:CDT
DTSTART:20250309T080000
END:DAYLIGHT
BEGIN:STANDARD
TZOFFSETFROM:-0500
TZOFFSETTO:-0600
TZNAME:CST
DTSTART:20251102T070000
END:STANDARD
BEGIN:DAYLIGHT
TZOFFSETFROM:-0600
TZOFFSETTO:-0500
TZNAME:CDT
DTSTART:20260308T080000
END:DAYLIGHT
BEGIN:STANDARD
TZOFFSETFROM:-0500
TZOFFSETTO:-0600
TZNAME:CST
DTSTART:20261101T070000
END:STANDARD
BEGIN:DAYLIGHT
TZOFFSETFROM:-0600
TZOFFSETTO:-0500
TZNAME:CDT
DTSTART:20270314T080000
END:DAYLIGHT
BEGIN:STANDARD
TZOFFSETFROM:-0500
TZOFFSETTO:-0600
TZNAME:CST
DTSTART:20271107T070000
END:STANDARD
END:VTIMEZONE
BEGIN:VEVENT
DTSTART;TZID=America/Chicago:20260326T063000
DTEND;TZID=America/Chicago:20260326T183000
DTSTAMP:20260425T073331
CREATED:20260307T000621Z
LAST-MODIFIED:20260307T021443Z
UID:2167-1774506600-1774549800@boletona.com
SUMMARY:VIII Muestra de Cine Hecho por Mujeres: "Nieta de mi Abuela"
DESCRIPTION:Nieta de mi Abuela en Guatemala cierra el ciclo de largometrajes con una propuesta mágica sobre las herencias familiares. Este documental dominicano explora los lazos generacionales y la resistencia de las mujeres a través del tiempo\, ofreciendo una mirada extraordinaria y luminosa sobre el Caribe. Una función inolvidable para conectar con nuestra propia historia. \nDir. Tatiana Fernández G. | Rep. Dominicana | 2024 | 108 min
URL:https://boletona.com/event/viii-muestra-de-cine-24/
LOCATION:Centro Cultural de España en Guatemala\, Edificio LUX\, Nivel 11-02\, Cdad. de Guatemala 01001\, Guatemala\, Guatemala\, 01001\, Guatemala
CATEGORIES:Cine,General,Gratuitos,Guatemala,Zona 1
ATTACH;FMTTYPE=image/jpeg:https://boletona.com/wp-content/uploads/2026/03/pexels-photo-7991579-7991579-scaled.jpg
END:VEVENT
BEGIN:VEVENT
DTSTART;TZID=America/Chicago:20260326T100000
DTEND;TZID=America/Chicago:20260326T100000
DTSTAMP:20260425T073331
CREATED:20260311T043034Z
LAST-MODIFIED:20260311T050528Z
UID:2311-1774519200-1774519200@boletona.com
SUMMARY:Seniors Club: Baile para Adultos Mayores
DESCRIPTION:Seniors Club es un espacio majestuoso dedicado al bienestar de nuestros adultos mayores. Todos los jueves de marzo a las 10:00 AM en Plaza Faroles\, Parque Las Américas ofrece actividades gratuitas. Boletona se enorgullece de promover estos encuentros llenos de paz y alegría. \nLas sesiones de Seniors Club incluyen pintura con acuarela (12 de marzo) y baile (19 y 26 de marzo)\, clases que son satisfactorias y revitalizantes. Es un ambiente sereno para convivir y aprender nuevas artes. ¡Una iniciativa valiosa para nuestra comunidad!
URL:https://boletona.com/event/seniors-club-parque-3/
LOCATION:Centro Comercial Parque las Américas\, Avenida Las Americas 6-69\, Cdad. de Guatemala\, Guatemala\, Guatemala\, 0101\, Guatemala
CATEGORIES:Artísticas,Expo / Empresas,Familiar,Gratuitos,Guatemala,Zona 13 y 14
ATTACH;FMTTYPE=image/jpeg:https://boletona.com/wp-content/uploads/2026/03/pexels-photo-7020996-7020996-scaled.jpg
END:VEVENT
END:VCALENDAR