BEGIN:VCALENDAR
VERSION:2.0
PRODID:-//Boletona - ECPv6.15.20//NONSGML v1.0//EN
CALSCALE:GREGORIAN
METHOD:PUBLISH
X-ORIGINAL-URL:https://boletona.com
X-WR-CALDESC:Eventos para Boletona
REFRESH-INTERVAL;VALUE=DURATION:PT1H
X-Robots-Tag:noindex
X-PUBLISHED-TTL:PT1H
BEGIN:VTIMEZONE
TZID:America/Chicago
BEGIN:DAYLIGHT
TZOFFSETFROM:-0600
TZOFFSETTO:-0500
TZNAME:CDT
DTSTART:20250309T080000
END:DAYLIGHT
BEGIN:STANDARD
TZOFFSETFROM:-0500
TZOFFSETTO:-0600
TZNAME:CST
DTSTART:20251102T070000
END:STANDARD
BEGIN:DAYLIGHT
TZOFFSETFROM:-0600
TZOFFSETTO:-0500
TZNAME:CDT
DTSTART:20260308T080000
END:DAYLIGHT
BEGIN:STANDARD
TZOFFSETFROM:-0500
TZOFFSETTO:-0600
TZNAME:CST
DTSTART:20261101T070000
END:STANDARD
BEGIN:DAYLIGHT
TZOFFSETFROM:-0600
TZOFFSETTO:-0500
TZNAME:CDT
DTSTART:20270314T080000
END:DAYLIGHT
BEGIN:STANDARD
TZOFFSETFROM:-0500
TZOFFSETTO:-0600
TZNAME:CST
DTSTART:20271107T070000
END:STANDARD
END:VTIMEZONE
BEGIN:VEVENT
DTSTART;TZID=America/Chicago:20260321T010000
DTEND;TZID=America/Chicago:20260321T130000
DTSTAMP:20260425T130136
CREATED:20260313T040632Z
LAST-MODIFIED:20260313T040632Z
UID:2326-1774054800-1774098000@boletona.com
SUMMARY:Umbral Sonoro: Festival de Equinoccio en Antigua Guatemala
DESCRIPTION:Prepárate para cruzar una frontera sensorial y espiritual en Umbral Sonoro\, el festival que redefine la celebración del equinoccio de primavera. Este 21 de marzo\, el místico escenario de San Felipe de Jesús\, en la Antigua Guatemala\, se convierte en el epicentro de una experiencia transformadora diseñada para quienes buscan algo más que un simple concierto. \nDesde la 1:00 PM\, la jornada inicia con un poderoso ritual de apertura\, una ceremonia pensada para armonizar tu energía con el ciclo solar y prepararte para una tarde de conexión absoluta. Umbral Sonoro no es solo un evento; es el nacimiento de una plataforma colectiva que celebra el talento local y la fuerza de la comunidad en un formato íntimo y curado. \nLa música será el hilo conductor que elevará el espíritu. Hemos seleccionado una cartelera de lujo con 4 bandas en vivo que te llevarán por un viaje sonoro ecléctico: desde el ritmo hipnótico de la cumbia psicodélica y la calidez del reggae\, hasta la energía desbordante del son cubano y la salsa. Cada nota está pensada para hacerte vibrar y bailar bajo el sol de la ciudad colonial. \nAdemás de la propuesta musical\, podrás explorar nuestro Mercado Curado\, un espacio donde 10 emprendimientos locales exhibirán productos únicos\, reflejando la creatividad y el diseño auténtico de nuestra región. Entre los acordes y el baile\, encontrarás espacios de experiencia diseñados para el descanso\, la introspección y el networking consciente. \nUmbral Sonoro es una invitación abierta a dejar atrás lo cotidiano y sumergirse en lo extraordinario. Los cupos son limitados para garantizar una atmósfera personal y genuina. Asegura tu lugar en esta vitrina de cultura y armonía. Ven a celebrar el inicio de un nuevo ciclo y descubre por qué este festival es el secreto mejor guardado de Antigua Guatemala. ¡Te esperamos para cruzar el umbral juntos!
URL:https://boletona.com/event/umbral-sonoro-festival-de-equinoccio-en-antigua-guatemala/
LOCATION:Rocamadour Antigua Guatemala\, Calle del hospital #71\, San Felipe\, Antigua Guatemala.\, Guatemala\, Antigua Guatemala\, 01000\, Guatemala
CATEGORIES:Antigua,Artísticas,Guatemala,Música,Pagados
ATTACH;FMTTYPE=image/jpeg:https://boletona.com/wp-content/uploads/2026/03/pexels-photo-2719301-2719301-scaled.jpg
END:VEVENT
BEGIN:VEVENT
DTSTART;TZID=America/Chicago:20260321T100000
DTEND;TZID=America/Chicago:20260321T180000
DTSTAMP:20260425T130136
CREATED:20260302T212210Z
LAST-MODIFIED:20260302T212719Z
UID:1994-1774087200-1774116000@boletona.com
SUMMARY:Gran Celebración: 50 Aniversario IRTRA Petapa 2026
DESCRIPTION:¿Estás listo para vivir una experiencia mágica e inolvidable? Este 2026\, el IRTRA Petapa tira la casa por la ventana para celebrar su 50 aniversario\, y lo hace con un despliegue espectacular que no querrás perderte. Durante este evento\, el parque se transforma por completo\, ofreciendo a todas las familias guatemaltecas una oportunidad exclusiva de disfrutar sus atracciones bajo el manto de la noche. \nLa celebración de medio siglo del IRTRA Petapa no es un evento común; es una experiencia sensorial diseñada para todas las edades. Imagina recorrer tus juegos favoritos mientras el parque se ilumina con luces vibrantes\, música envolvente y una atmósfera de alegría contagiosa. Los desfiles temáticos\, preparados especialmente para esta ocasión\, llenarán de color los pasillos\, creando recuerdos que durarán toda la vida. Es la oportunidad perfecta para capturar fotografías increíbles\, disfrutar de una velada fresca y celebrar la trayectoria de uno de los lugares más emblemáticos de Guatemala. \nCLARINETE \nSábado 7\,14\,21\,28\nDomingo 8\,15\,22\,29\n16:00 a 18:00 hrs.\nRecorrido por el parque. \nFIESTA LATINA \nSábado 7\,14\,21\,28\n14:00 a 16:00 hrs. \nSHOW FAMILIAR \nSábado 7\,14\,21\,28\nDomingo 8\,15\,22\,29\n10:00 a 12:00 hrs. La Ceiba \nFEVER JAZZ \nSábado 7\,14\,21\,28\n16:00 a 18:30 hrs. La Ceiba \nYa sea que busques una cita diferente\, una salida divertida con amigos o el plan perfecto para conectar con tu familia\, el Aniversario IRTRA Petapa 2026 se posiciona como el evento imperdible de la temporada. La combinación de la adrenalina de los juegos mecánicos con la belleza de las actividades nocturnas hace que esta jornada sea totalmente única. \nNota importante para nuestros lectores: En esta plataforma somos una vitrina informativa. Nuestro objetivo es mantenerte al tanto de los mejores eventos en Guatemala. Te recordamos que no realizamos la venta directa de entradas ni gestionamos la taquilla de este evento. Te recomendamos verificar siempre los canales oficiales del IRTRA para adquirir tus boletos y confirmar los horarios específicos de las actividades\, asegurando así tu cupo en esta celebración histórica. \n¡No dejes pasar esta oportunidad! Planifica tu visita\, invita a tus personas favoritas y prepárate para ser parte de la historia en el 50 aniversario del IRTRA Petapa. ¡Será una noche legendaria!
URL:https://boletona.com/event/aniversario-irtra-petapa-2026-2-2/
LOCATION:Irtra petapa\, Av. Petapa 42-36\, Guatemala\, Guatemala\, 01012\, Guatemala
CATEGORIES:Artísticas,Expo / Empresas,Familiar,Guatemala,Infantil,Pagados,Teatro,Zona 11 y 12
ATTACH;FMTTYPE=image/jpeg:https://boletona.com/wp-content/uploads/2026/03/pexels-photo-30268814-30268814-scaled.jpg
END:VEVENT
BEGIN:VEVENT
DTSTART;TZID=America/Chicago:20260321T153000
DTEND;TZID=America/Chicago:20260321T153000
DTSTAMP:20260425T130136
CREATED:20260311T043034Z
LAST-MODIFIED:20260311T043034Z
UID:2272-1774107000-1774107000@boletona.com
SUMMARY:Mi Barquito en Botella
DESCRIPTION:Mi barquito en botella es un taller auténtico diseñado para pequeños aventureros. El próximo 21 de marzo a las 3:30 PM\, la Plaza Faroles de Parque Las Américas se llenará de mística marina. En Boletona\, promovemos eventos que son esenciales para el desarrollo cognitivo y recreativo de los niños. \nParticipar en el taller Mi barquito en botella es una experiencia fascinante que enseña paciencia y detalle. Esta actividad es totalmente gratuita\, lo que la hace un plan perfecto para el sábado. ¡Ven y construye un recuerdo inolvidable!
URL:https://boletona.com/event/mi-barquito-en-botella/
LOCATION:Centro Comercial Parque las Américas\, Avenida Las Americas 6-69\, Cdad. de Guatemala\, Guatemala\, Guatemala\, 0101\, Guatemala
CATEGORIES:Familiar,Gratuitos,Guatemala,Infantil,Zona 13 y 14
ATTACH;FMTTYPE=image/jpeg:https://boletona.com/wp-content/uploads/2026/03/g35398e96387c0e3c3a9d8b7093e88db569974ed1004dee96f267d59de20393da3c64c3158ffed31f500fb28c3954e7e22ec56639c34e7f011b9dc0d46f5242d9_1280-7668343.jpg
END:VEVENT
BEGIN:VEVENT
DTSTART;TZID=America/Chicago:20260321T200000
DTEND;TZID=America/Chicago:20260321T200000
DTSTAMP:20260425T130136
CREATED:20260310T032952Z
LAST-MODIFIED:20260310T033533Z
UID:2220-1774123200-1774123200@boletona.com
SUMMARY:Las Damitas Histeria: Tour 2026 en Guatemala
DESCRIPTION:¡El fenómeno que estabas esperando finalmente tiene fecha en el calendario guatemalteco! Las Damitas Histeria regresan a los escenarios con su gira 2026\, prometiendo una velada fascinante donde la música\, el performance y la conexión con el público alcanzan un nivel magistral. Este no es solo un concierto; es una catarsis colectiva diseñada para quienes buscan experiencias auténticas y cargadas de adrenalina. \nDesde su irrupción en la escena\, este grupo ha demostrado una capacidad asombrosa para reinventarse\, y este nuevo show en Guatemala es la prueba definitiva de su evolución artística. Los asistentes serán testigos de un despliegue técnico impresionante\, con una calidad de sonido e iluminación que garantiza una atmósfera envolvente desde el primer segundo. Es el momento perfecto para reunir a tus amigos y asegurar su lugar en lo que será\, sin duda\, el evento más comentado del año. \nLa energía que desprenden sobre el escenario es simplemente irresistible. Cada acorde y cada coreografía están pensados para generar un impacto profundo\, convirtiendo el recinto en un espacio de libertad y celebración absoluta. Si buscas un plan extraordinario para romper la rutina\, asistir a «Las Damitas Histeria» es una decisión ganadora. La demanda es altísima y la expectativa crece minuto a minuto; ser parte de este tour es un privilegio que pocos podrán contar. \nRecuerda que en esta ocasión actuamos como una vitrina promocional para que no te pierdas ningún detalle de la agenda cultural en Guatemala. Te invitamos a estar atento a todas las actualizaciones para que garantices tu acceso a esta noche gloriosa. ¡No dejes que te lo cuenten\, vive la intensidad de Las Damitas Histeria en carne propia!
URL:https://boletona.com/event/las-damitas-histeria-tour-2026-en-guatemala/
LOCATION:Teatro Lux\, CCE Guatemala\, 2do\, Edificio LUX\, Nivel 11-02\, Guatemala\, Guatemala\, 01001\, Guatemala
CATEGORIES:Artísticas,Comedia,Escénicas,General,Guatemala,Pagados,Zona 1
ATTACH;FMTTYPE=image/jpeg:https://boletona.com/wp-content/uploads/2026/03/pexels-photo-36276426-36276426-scaled.jpg
END:VEVENT
END:VCALENDAR