BEGIN:VCALENDAR
VERSION:2.0
PRODID:-//Boletona - ECPv6.15.20//NONSGML v1.0//EN
CALSCALE:GREGORIAN
METHOD:PUBLISH
X-ORIGINAL-URL:https://boletona.com
X-WR-CALDESC:Eventos para Boletona
REFRESH-INTERVAL;VALUE=DURATION:PT1H
X-Robots-Tag:noindex
X-PUBLISHED-TTL:PT1H
BEGIN:VTIMEZONE
TZID:America/Chicago
BEGIN:DAYLIGHT
TZOFFSETFROM:-0600
TZOFFSETTO:-0500
TZNAME:CDT
DTSTART:20250309T080000
END:DAYLIGHT
BEGIN:STANDARD
TZOFFSETFROM:-0500
TZOFFSETTO:-0600
TZNAME:CST
DTSTART:20251102T070000
END:STANDARD
BEGIN:DAYLIGHT
TZOFFSETFROM:-0600
TZOFFSETTO:-0500
TZNAME:CDT
DTSTART:20260308T080000
END:DAYLIGHT
BEGIN:STANDARD
TZOFFSETFROM:-0500
TZOFFSETTO:-0600
TZNAME:CST
DTSTART:20261101T070000
END:STANDARD
BEGIN:DAYLIGHT
TZOFFSETFROM:-0600
TZOFFSETTO:-0500
TZNAME:CDT
DTSTART:20270314T080000
END:DAYLIGHT
BEGIN:STANDARD
TZOFFSETFROM:-0500
TZOFFSETTO:-0600
TZNAME:CST
DTSTART:20271107T070000
END:STANDARD
END:VTIMEZONE
BEGIN:VEVENT
DTSTART;TZID=America/Chicago:20260318T080000
DTEND;TZID=America/Chicago:20260318T080000
DTSTAMP:20260425T073434
CREATED:20260307T164319Z
LAST-MODIFIED:20260307T165625Z
UID:2187-1773820800-1773820800@boletona.com
SUMMARY:Pre-congreso Regional de Avicultura 2026
DESCRIPTION:Prepárate para ser parte del evento más estratégico del sector: el Segundo Congreso Regional de Avicultura. Este encuentro de alto nivel\, que tendrá lugar en las impresionantes instalaciones del Teatro de Francia en el IRTRA Xetulul\, está diseñado meticulosamente para profesionales\, productores y empresarios que buscan alcanzar el éxito rotundo en la industria avícola moderna. \nLa avicultura actual exige una actualización constante\, y este congreso es la solución definitiva. Durante las jornadas\, tendrás acceso directo a conferencias magistrales impartidas por referentes internacionales\, quienes compartirán conocimientos revolucionarios sobre sanidad animal\, nutrición de precisión\, bioseguridad y las últimas tendencias en sostenibilidad. Es una plataforma privilegiada para absorber estrategias que garantizan un crecimiento exponencial en el mercado actual. \nMás allá del aprendizaje académico\, el congreso ofrece un espacio de networking de alto impacto. Imagina intercambiar ideas y cerrar alianzas con los tomadores de decisiones más influyentes de la región\, todo esto bajo la atmósfera mágica y profesional que solo el IRTRA puede ofrecer. La combinación de rigor técnico y un entorno recreativo de clase mundial asegura una experiencia enriquecedora y totalmente memorable. \nEs fundamental destacar que en esta ocasión actuamos como una vitrina de promoción para este prestigioso evento en Guatemala. Nuestra misión es facilitarte el acceso a la información necesaria para que asegures tu lugar en esta cita imprescindible. La industria está evolucionando rápidamente; asistir a este congreso no es solo una opción\, es una inversión garantizada para mantener tu competitividad y liderazgo. \nNo permitas que la competencia te tome la delantera. Asegura tu participación en este foro visionario donde se definirá el futuro de la avicultura regional. ¡El conocimiento es el activo más valioso\, y aquí lo encontrarás en su máxima expresión!
URL:https://boletona.com/event/pre-congreso-regional-de-avicultura-2026-2/
LOCATION:IRTRA Retalhuleu\, H9WQ+8FV\, San Martin Zapotitlán\, Zapotitlán\, Retalhuleu\, 10003\, Guatemala
CATEGORIES:Expo / Empresas,Pagados
ATTACH;FMTTYPE=image/jpeg:https://boletona.com/wp-content/uploads/2026/03/pexels-photo-12995535-12995535-scaled.jpg
END:VEVENT
BEGIN:VEVENT
DTSTART;TZID=America/Chicago:20260318T190000
DTEND;TZID=America/Chicago:20260318T190000
DTSTAMP:20260425T073434
CREATED:20260305T014325Z
LAST-MODIFIED:20260305T014326Z
UID:2070-1773860400-1773860400@boletona.com
SUMMARY:Printemps des Poètes 2026 en Guatemala: Una Noche de Poesía y Libertad
DESCRIPTION:Printemps des Poètes 2026 en Guatemala llega como una de las actividades más emocionantes y auténticas de la celebración de la Francofonía 2026. Este evento mundial se celebra en la Mediateca de la Alianza Francesa\, ofreciendo un espacio mágico donde la palabra y la creatividad son las protagonistas bajo el lema «Voces de Libertad». \nParticipar en la Printemps des Poètes 2026 en Guatemala es una experiencia única para los amantes de la escritura. Los asistentes podrán unirse a una noche de micrófono abierto\, declamando poemas tanto en español como en francés\, en una atmósfera de intercambio cultural sublime y profundo. \nCreatividad y Poesía en la Mediateca\nLa velada de la Printemps des Poètes 2026 en Guatemala no se limita a la voz; también invita a la expresión visual. Durante el evento\, podrás plasmar tus emociones a través de la pintura y la creación de caligramas\, una técnica brillante para dar forma a los sentimientos que surjan durante esta noche inolvidable. \n¿Por qué ser parte de esta noche de libertad?\n\n\nEspacio de Expresión: La Printemps des Poètes 2026 en Guatemala es la plataforma perfecta para compartir tu pasión por la escritura con una comunidad talentosa. \n\n\nCultura Multilingüe: Es una oportunidad genial para practicar y escuchar el idioma francés en un contexto artístico fabuloso. \n\n\nAcceso Gratuito: Un evento oficial de nivel internacional abierto a todo público\, garantizando una noche de enriquecimiento intelectual gratuito. \n\n\nBoletona.com es tu sitio líder para registrarte y participar en la Printemps des Poètes 2026 en Guatemala. No dejes pasar la oportunidad de que tu voz sea escuchada en esta celebración extraordinaria de la libertad y el arte literario en la zona 13.
URL:https://boletona.com/event/printemps-des-poetes-2026-en-guatemala/
LOCATION:Alianza Francesa – Guatemala\, 5 calle 10-55 zona 13\, Finca la Aurora\, Guatemala\, Guatemala\, 01013\, Guatemala
CATEGORIES:Artísticas,Expo / Empresas,Gratuitos,Guatemala,Literatura,Zona 13 y 14
ATTACH;FMTTYPE=image/jpeg:https://boletona.com/wp-content/uploads/2026/03/pexels-photo-5546885-5546885.jpg
END:VEVENT
END:VCALENDAR