BEGIN:VCALENDAR
VERSION:2.0
PRODID:-//Boletona - ECPv6.15.20//NONSGML v1.0//EN
CALSCALE:GREGORIAN
METHOD:PUBLISH
X-WR-CALNAME:Boletona
X-ORIGINAL-URL:https://boletona.com
X-WR-CALDESC:Eventos para Boletona
REFRESH-INTERVAL;VALUE=DURATION:PT1H
X-Robots-Tag:noindex
X-PUBLISHED-TTL:PT1H
BEGIN:VTIMEZONE
TZID:America/Chicago
BEGIN:DAYLIGHT
TZOFFSETFROM:-0600
TZOFFSETTO:-0500
TZNAME:CDT
DTSTART:20250309T080000
END:DAYLIGHT
BEGIN:STANDARD
TZOFFSETFROM:-0500
TZOFFSETTO:-0600
TZNAME:CST
DTSTART:20251102T070000
END:STANDARD
BEGIN:DAYLIGHT
TZOFFSETFROM:-0600
TZOFFSETTO:-0500
TZNAME:CDT
DTSTART:20260308T080000
END:DAYLIGHT
BEGIN:STANDARD
TZOFFSETFROM:-0500
TZOFFSETTO:-0600
TZNAME:CST
DTSTART:20261101T070000
END:STANDARD
BEGIN:DAYLIGHT
TZOFFSETFROM:-0600
TZOFFSETTO:-0500
TZNAME:CDT
DTSTART:20270314T080000
END:DAYLIGHT
BEGIN:STANDARD
TZOFFSETFROM:-0500
TZOFFSETTO:-0600
TZNAME:CST
DTSTART:20271107T070000
END:STANDARD
END:VTIMEZONE
BEGIN:VEVENT
DTSTART;TZID=America/Chicago:20260315T083000
DTEND;TZID=America/Chicago:20260315T110000
DTSTAMP:20260425T073326
CREATED:20260306T004329Z
LAST-MODIFIED:20260306T004351Z
UID:2132-1773563400-1773572400@boletona.com
SUMMARY:Taller de Sirenismo en Guatemala: Conviértete en Sirena o Tritón
DESCRIPTION:Taller de Sirenismo en Guatemala es una invitación extraordinaria a descubrir un deporte extremo y recreativo que combina la apnea con la fantasía. Impartido por Sirena Selene (Aurie Cano)\, la primera sirena certificada del país e instructora profesional con 5 años de experiencia\, este taller ofrece una conexión mágica y profunda con el medio acuático. \nParticipar en el Taller de Sirenismo en Guatemala es una oportunidad única para aprender técnicas de respiración\, manejo de equipo profesional (monoaleta y colas de sirena) y el arte del modelaje subacuático. Es una experiencia vibrante diseñada tanto para principiantes como para entusiastas\, donde no se necesita experiencia previa para empezar a fluir. \nEl «Mermaid Day»: Un Cambio de Perspectiva\nEl Taller de Sirenismo en Guatemala se divide en tres fases fascinantes: una introducción teórica y técnica\, práctica intensiva con equipo acuático profesional y una sesión final de fotos y videos dentro y fuera del agua para inmortalizar este momento inolvidable. \n¿Qué incluye tu experiencia de Sirenismo?\n\n\nTaller Completo: Instrucción majestuosa sobre la técnica y cuidado del equipo de sirena y tritón. \n\n\nEquipo Profesional: Uso de monoaleta\, colas de sirena\, tops y accesorios espectaculares. \n\n\nInstalaciones: Entrada al lugar del taller y uso de piscina adecuada para la práctica segura. \n\n\nContenido Multimedia: Fotos y videos de alta calidad para recordar tu transformación brillante. \n\n\nBoletona.com te invita a sumergirte en esta aventura sublime. El Taller de Sirenismo en Guatemala con Aurie Cano es\, definitivamente\, la actividad más novedosa y encantadora para quienes buscan un cambio de perspectiva positiva en su vida.
URL:https://boletona.com/event/taller-de-sirenismo/
LOCATION:Por definir\, Por definir\, Por definir\, Guatemala\, Guatemala
CATEGORIES:Académico,Deportivos,Expo / Empresas,Familiar
ATTACH;FMTTYPE=image/jpeg:https://boletona.com/wp-content/uploads/2026/03/aurie.jpg
END:VEVENT
END:VCALENDAR