BEGIN:VCALENDAR
VERSION:2.0
PRODID:-//Boletona - ECPv6.15.20//NONSGML v1.0//EN
CALSCALE:GREGORIAN
METHOD:PUBLISH
X-WR-CALNAME:Boletona
X-ORIGINAL-URL:https://boletona.com
X-WR-CALDESC:Eventos para Boletona
REFRESH-INTERVAL;VALUE=DURATION:PT1H
X-Robots-Tag:noindex
X-PUBLISHED-TTL:PT1H
BEGIN:VTIMEZONE
TZID:America/Chicago
BEGIN:DAYLIGHT
TZOFFSETFROM:-0600
TZOFFSETTO:-0500
TZNAME:CDT
DTSTART:20250309T080000
END:DAYLIGHT
BEGIN:STANDARD
TZOFFSETFROM:-0500
TZOFFSETTO:-0600
TZNAME:CST
DTSTART:20251102T070000
END:STANDARD
BEGIN:DAYLIGHT
TZOFFSETFROM:-0600
TZOFFSETTO:-0500
TZNAME:CDT
DTSTART:20260308T080000
END:DAYLIGHT
BEGIN:STANDARD
TZOFFSETFROM:-0500
TZOFFSETTO:-0600
TZNAME:CST
DTSTART:20261101T070000
END:STANDARD
BEGIN:DAYLIGHT
TZOFFSETFROM:-0600
TZOFFSETTO:-0500
TZNAME:CDT
DTSTART:20270314T080000
END:DAYLIGHT
BEGIN:STANDARD
TZOFFSETFROM:-0500
TZOFFSETTO:-0600
TZNAME:CST
DTSTART:20271107T070000
END:STANDARD
END:VTIMEZONE
BEGIN:VEVENT
DTSTART;TZID=America/Chicago:20260313T100000
DTEND;TZID=America/Chicago:20260313T100000
DTSTAMP:20260425T073341
CREATED:20260307T023245Z
LAST-MODIFIED:20260307T023245Z
UID:2171-1773396000-1773396000@boletona.com
SUMMARY:Violencia Digital y Derechos de las Mujeres 2026: Realidades en Guatemala
DESCRIPTION:Violencia Digital y Derechos de las Mujeres en Guatemala es un espacio de diálogo indispensable que surge a partir de la proyección del documental Backlash: Misogyny in the Digital Age. En este encuentro\, se analizarán los riesgos de la misoginia en línea y su impacto directo en la agenda de género y las políticas públicas del país\, ofreciendo una perspectiva auténtica y esencial sobre la seguridad digital. \nAsistir al foro Violencia Digital y Derechos de las Mujeres en Guatemala permite comprender los desafíos que enfrentan las mujeres en el ciberespacio. Es una oportunidad extraordinaria para escuchar a expertos y organizaciones líderes en un entorno majestuoso como el Edificio Lux\, donde la reflexión se convierte en una herramienta de resistencia y cambio social. \nUn Diálogo Interinstitucional Urgente\nEl evento Violencia Digital y Derechos de las Mujeres en Guatemala destaca por su sólida organización conjunta con la OEI\, ONU Mujeres y la Embajada de Canadá. Esta colaboración garantiza una discusión de alto nivel\, vibrante y significativa\, orientada a proponer soluciones reales frente a la deshumanización en las redes sociales. \n¿Por qué participar en este cineforo?\n\nAnálisis Profundo: El documental Backlash sirve como base para una discusión fascinante sobre la violencia de género moderna.\nImpacto Social: Se exploran los desafíos de la agenda de mujeres en Guatemala frente a los riesgos digitales.\nEntorno Oficial: Un eveno gratuito con el respaldo de organismos internacionales de gran prestigio.\n\nBoletona.com te invita a ser parte de esta conversación memorable. Violencia Digital y Derechos de las Mujeres en Guatemala es una cita obligatoria para quienes buscan entender y combatir la misoginia en la era digital en un ambiente de aprendizaje contemporáneo.
URL:https://boletona.com/event/violencia-digital-y-derechos-de-las-mujeres/
LOCATION:Centro Cultural de España en Guatemala\, Edificio LUX\, Nivel 11-02\, Cdad. de Guatemala 01001\, Guatemala\, Guatemala\, 01001\, Guatemala
CATEGORIES:Académico,Cine,Expo / Empresas,Gratuitos,Guatemala,Zona 1
ATTACH;FMTTYPE=image/jpeg:https://boletona.com/wp-content/uploads/2026/03/pexels-photo-5475763-5475763-scaled.jpg
END:VEVENT
BEGIN:VEVENT
DTSTART;TZID=America/Chicago:20260313T170000
DTEND;TZID=America/Chicago:20260313T170000
DTSTAMP:20260425T073341
CREATED:20260302T201902Z
LAST-MODIFIED:20260302T202840Z
UID:1970-1773421200-1773421200@boletona.com
SUMMARY:Semana de la Moda 2026: 3 Días de Puro Estilo y Vanguardia
DESCRIPTION:Bienvenido a la máxima celebración del diseño y la sofisticación: la Semana de la Moda 2026. Durante tres días intensos\, Guatemala se convierte en el epicentro del glamour\, reuniendo a los talentos más destacados de la industria y a los amantes del buen vestir en una pasarela inmersiva y vanguardista. \nEste no es solo un evento de moda; es un movimiento estratégico que marca el rumbo de las tendencias que dominarán la temporada. Desde colecciones de alta costura hasta propuestas de diseño emergente\, cada jornada ha sido curada para ofrecerte una experiencia sensorial única. ¿Buscas inspiración? ¿Quieres conectar con íconos del estilo nacional? Este es el lugar donde el arte se encuentra con la innovación. \nEn nuestra vitrina\, nos emociona acercarte a este mundo fascinante. Aunque nuestra labor es promover este acontecimiento imperdible como intermediarios\, queremos asegurarnos de que tengas toda la información necesaria para que no te pierdas ni un solo segundo de la acción. La atmósfera estará cargada de creatividad\, música envolvente y una energía contagiosa que solo los grandes eventos de moda pueden ofrecer. \n¿Qué te espera en estos 3 días de moda? \nPasarelas de alto impacto: Descubre las propuestas de los diseñadores más influyentes del momento. \nNetworking exclusivo: Un punto de encuentro ideal para conectar con profesionales de la industria y entusiastas del estilo. \nTendencias futuras: Sé de los primeros en conocer lo que marcará el ritmo de la moda en los próximos meses. \nUna experiencia completa: Tres días diseñados meticulosamente para el deleite visual y social. \nCódigo de vestimenta: Rock Glam \nEl mundo de la moda es dinámico y evoluciona constantemente\, y tú tienes la oportunidad de ser testigo de esta evolución desde la primera fila. Te invitamos a explorar todos los detalles y asegurar tu participación en este encuentro que redefine el concepto de elegancia en nuestro país. \nNota: Recuerda que somos tu vitrina de confianza en Guatemala para promocionar este evento. Asegúrate de verificar los detalles de acceso y disponibilidad a través de los canales oficiales proporcionados para garantizar tu lugar.
URL:https://boletona.com/event/semana-de-la-moda-2026-guatemala-2/
LOCATION:Museo Miraflores\, 7 Calle 21-55\, Guatemala\, Guatemala\, 01011\, Guatemala
CATEGORIES:Artísticas,Expo / Empresas,Guatemala,Pagados,Zona 11 y 12
ATTACH;FMTTYPE=image/jpeg:https://boletona.com/wp-content/uploads/2026/03/pexels-photo-3011499-3011499-scaled.jpg
END:VEVENT
END:VCALENDAR