BEGIN:VCALENDAR
VERSION:2.0
PRODID:-//Boletona - ECPv6.15.20//NONSGML v1.0//EN
CALSCALE:GREGORIAN
METHOD:PUBLISH
X-ORIGINAL-URL:https://boletona.com
X-WR-CALDESC:Eventos para Boletona
REFRESH-INTERVAL;VALUE=DURATION:PT1H
X-Robots-Tag:noindex
X-PUBLISHED-TTL:PT1H
BEGIN:VTIMEZONE
TZID:America/Chicago
BEGIN:DAYLIGHT
TZOFFSETFROM:-0600
TZOFFSETTO:-0500
TZNAME:CDT
DTSTART:20250309T080000
END:DAYLIGHT
BEGIN:STANDARD
TZOFFSETFROM:-0500
TZOFFSETTO:-0600
TZNAME:CST
DTSTART:20251102T070000
END:STANDARD
BEGIN:DAYLIGHT
TZOFFSETFROM:-0600
TZOFFSETTO:-0500
TZNAME:CDT
DTSTART:20260308T080000
END:DAYLIGHT
BEGIN:STANDARD
TZOFFSETFROM:-0500
TZOFFSETTO:-0600
TZNAME:CST
DTSTART:20261101T070000
END:STANDARD
BEGIN:DAYLIGHT
TZOFFSETFROM:-0600
TZOFFSETTO:-0500
TZNAME:CDT
DTSTART:20270314T080000
END:DAYLIGHT
BEGIN:STANDARD
TZOFFSETFROM:-0500
TZOFFSETTO:-0600
TZNAME:CST
DTSTART:20271107T070000
END:STANDARD
END:VTIMEZONE
BEGIN:VEVENT
DTSTART;TZID=America/Chicago:20260319T100000
DTEND;TZID=America/Chicago:20260319T100000
DTSTAMP:20260425T112911
CREATED:20260311T043034Z
LAST-MODIFIED:20260311T050455Z
UID:2308-1773914400-1773914400@boletona.com
SUMMARY:Seniors Club: Baile para Adultos Mayores
DESCRIPTION:Seniors Club es un espacio majestuoso dedicado al bienestar de nuestros adultos mayores. Todos los jueves de marzo a las 10:00 AM en Plaza Faroles\, Parque Las Américas ofrece actividades gratuitas. Boletona se enorgullece de promover estos encuentros llenos de paz y alegría. \nLas sesiones de Seniors Club incluyen pintura con acuarela (12 de marzo) y baile (19 y 26 de marzo)\, clases que son satisfactorias y revitalizantes. Es un ambiente sereno para convivir y aprender nuevas artes. ¡Una iniciativa valiosa para nuestra comunidad!
URL:https://boletona.com/event/seniors-club-parque-2/
LOCATION:Centro Comercial Parque las Américas\, Avenida Las Americas 6-69\, Cdad. de Guatemala\, Guatemala\, Guatemala\, 0101\, Guatemala
CATEGORIES:Artísticas,Expo / Empresas,Familiar,Gratuitos,Guatemala,Zona 13 y 14
ATTACH;FMTTYPE=image/jpeg:https://boletona.com/wp-content/uploads/2026/03/pexels-photo-7020996-7020996-scaled.jpg
END:VEVENT
END:VCALENDAR