BEGIN:VCALENDAR
VERSION:2.0
PRODID:-//Boletona - ECPv6.15.20//NONSGML v1.0//EN
CALSCALE:GREGORIAN
METHOD:PUBLISH
X-ORIGINAL-URL:https://boletona.com
X-WR-CALDESC:Eventos para Boletona
REFRESH-INTERVAL;VALUE=DURATION:PT1H
X-Robots-Tag:noindex
X-PUBLISHED-TTL:PT1H
BEGIN:VTIMEZONE
TZID:America/Chicago
BEGIN:DAYLIGHT
TZOFFSETFROM:-0600
TZOFFSETTO:-0500
TZNAME:CDT
DTSTART:20250309T080000
END:DAYLIGHT
BEGIN:STANDARD
TZOFFSETFROM:-0500
TZOFFSETTO:-0600
TZNAME:CST
DTSTART:20251102T070000
END:STANDARD
BEGIN:DAYLIGHT
TZOFFSETFROM:-0600
TZOFFSETTO:-0500
TZNAME:CDT
DTSTART:20260308T080000
END:DAYLIGHT
BEGIN:STANDARD
TZOFFSETFROM:-0500
TZOFFSETTO:-0600
TZNAME:CST
DTSTART:20261101T070000
END:STANDARD
BEGIN:DAYLIGHT
TZOFFSETFROM:-0600
TZOFFSETTO:-0500
TZNAME:CDT
DTSTART:20270314T080000
END:DAYLIGHT
BEGIN:STANDARD
TZOFFSETFROM:-0500
TZOFFSETTO:-0600
TZNAME:CST
DTSTART:20271107T070000
END:STANDARD
END:VTIMEZONE
BEGIN:VEVENT
DTSTART;TZID=America/Chicago:20260312T100000
DTEND;TZID=America/Chicago:20260312T100000
DTSTAMP:20260425T055443
CREATED:20260311T043034Z
LAST-MODIFIED:20260311T050237Z
UID:2305-1773309600-1773309600@boletona.com
SUMMARY:Seniors Club: Pintura para Adultos Mayores
DESCRIPTION:Seniors Club es un espacio majestuoso dedicado al bienestar de nuestros adultos mayores. Todos los jueves de marzo a las 10:00 AM en Plaza Faroles\, Parque Las Américas ofrece actividades gratuitas. Boletona se enorgullece de promover estos encuentros llenos de paz y alegría. \nLas sesiones de Seniors Club incluyen pintura con acuarela (12 de marzo) y baile (19 y 26 de marzo)\, clases que son satisfactorias y revitalizantes. Es un ambiente sereno para convivir y aprender nuevas artes. ¡Una iniciativa valiosa para nuestra comunidad!
URL:https://boletona.com/event/seniors-club-parque/
LOCATION:Centro Comercial Parque las Américas\, Avenida Las Americas 6-69\, Cdad. de Guatemala\, Guatemala\, Guatemala\, 0101\, Guatemala
CATEGORIES:Artísticas,Expo / Empresas,Familiar,Gratuitos,Guatemala,Zona 13 y 14
ATTACH;FMTTYPE=image/jpeg:https://boletona.com/wp-content/uploads/2026/03/g237ff7794040a2c235613964d08bed0acba0213c1078a36ba5b3ecde7c56d9f5242f423b43a86026a9d0a5f89457a91821287ba2a70670a294da61904c1dafd4_1280-3445376.jpg
END:VEVENT
BEGIN:VEVENT
DTSTART;TZID=America/Chicago:20260312T170000
DTEND;TZID=America/Chicago:20260312T170000
DTSTAMP:20260425T055443
CREATED:20260302T201902Z
LAST-MODIFIED:20260302T202956Z
UID:1966-1773334800-1773334800@boletona.com
SUMMARY:Semana de la Moda 2026: 3 Días de Puro Estilo y Vanguardia
DESCRIPTION:Bienvenido a la máxima celebración del diseño y la sofisticación: la Semana de la Moda 2026. Durante tres días intensos\, Guatemala se convierte en el epicentro del glamour\, reuniendo a los talentos más destacados de la industria y a los amantes del buen vestir en una pasarela inmersiva y vanguardista. \nEste no es solo un evento de moda; es un movimiento estratégico que marca el rumbo de las tendencias que dominarán la temporada. Desde colecciones de alta costura hasta propuestas de diseño emergente\, cada jornada ha sido curada para ofrecerte una experiencia sensorial única. ¿Buscas inspiración? ¿Quieres conectar con íconos del estilo nacional? Este es el lugar donde el arte se encuentra con la innovación. \nEn nuestra vitrina\, nos emociona acercarte a este mundo fascinante. Aunque nuestra labor es promover este acontecimiento imperdible como intermediarios\, queremos asegurarnos de que tengas toda la información necesaria para que no te pierdas ni un solo segundo de la acción. La atmósfera estará cargada de creatividad\, música envolvente y una energía contagiosa que solo los grandes eventos de moda pueden ofrecer. \n¿Qué te espera en estos 3 días de moda? \n\n\nPasarelas de alto impacto: Descubre las propuestas de los diseñadores más influyentes del momento. \n\n\nNetworking exclusivo: Un punto de encuentro ideal para conectar con profesionales de la industria y entusiastas del estilo. \n\n\nTendencias futuras: Sé de los primeros en conocer lo que marcará el ritmo de la moda en los próximos meses. \n\n\nUna experiencia completa: Tres días diseñados meticulosamente para el deleite visual y social. \n\nCódigo de vestimenta: escenario idol del K-pop\n\nEl mundo de la moda es dinámico y evoluciona constantemente\, y tú tienes la oportunidad de ser testigo de esta evolución desde la primera fila. Te invitamos a explorar todos los detalles y asegurar tu participación en este encuentro que redefine el concepto de elegancia en nuestro país. \nNota: Recuerda que somos tu vitrina de confianza en Guatemala para promocionar este evento. Asegúrate de verificar los detalles de acceso y disponibilidad a través de los canales oficiales proporcionados para garantizar tu lugar.
URL:https://boletona.com/event/semana-de-la-moda-2026-guatemala/
LOCATION:Museo Miraflores\, 7 Calle 21-55\, Guatemala\, Guatemala\, 01011\, Guatemala
CATEGORIES:Artísticas,Expo / Empresas,Guatemala,Pagados,Zona 11 y 12
ATTACH;FMTTYPE=image/jpeg:https://boletona.com/wp-content/uploads/2026/03/pexels-photo-3011499-3011499-scaled.jpg
END:VEVENT
BEGIN:VEVENT
DTSTART;TZID=America/Chicago:20260312T183000
DTEND;TZID=America/Chicago:20260312T183000
DTSTAMP:20260425T055443
CREATED:20260305T013353Z
LAST-MODIFIED:20260305T013354Z
UID:2062-1773340200-1773340200@boletona.com
SUMMARY:Cine Hecho por Mujeres en Guatemala: Proyección Gratuita de «María»
DESCRIPTION:Cine Hecho por Mujeres en Guatemala llega a su octava edición con una propuesta espectacular para conmemorar el mes de la mujer. En esta ocasión\, el jardín de la Alianza Francesa se convierte en un espacio mágico para la reflexión a través de la gran pantalla\, ofreciendo historias que permiten escuchar voces femeninas y mirar el mundo desde una perspectiva auténtica y necesaria. \nLa función estelar de Cine Hecho por Mujeres en Guatemala presenta la película «María». Este filme es un relato fascinante y a la vez desgarrador que explora la vida de una protagonista convertida en icono\, pero atrapada en una imagen sexualizada tras su participación en una producción histórica del cine. Es una oportunidad única para analizar las consecuencias de la industria desde una mirada crítica y profunda. \nNoche de Cine al Aire Libre en la Alianza Francesa\nDisfrutar del Cine Hecho por Mujeres en Guatemala bajo las estrellas es una experiencia memorable y sublime. La Alianza Francesa de Guatemala abre sus puertas en la zona 13 para este evento de entrada libre\, reafirmando su compromiso con la cultura y los derechos de la mujer en un ambiente seguro y acogedor. \n¿Por qué asistir a la proyección de «María»?\n\nEspacio de Reflexión: El Cine Hecho por Mujeres en Guatemala busca generar un diálogo significativo sobre el papel de la mujer en el arte y la sociedad.\nEvento Gratuito: Es una oportunidad extraordinaria para acceder a cinematografía internacional de alta calidad sin costo alguno.\nEntorno Majestuoso: Ver cine en el jardín de la Alianza es una actividad perfecta para compartir con amigos o en pareja.\n\nBoletona.com te invita a ser parte de esta octava muestra de Cine Hecho por Mujeres en Guatemala. No te pierdas esta función especial de «María»\, un evento brillante que promete tocar fibras emocionantes y elevar la conciencia a través del séptimo arte.
URL:https://boletona.com/event/cine-hecho-por-mujeres-en-guatemala-maria/
LOCATION:Alianza Francesa – Guatemala\, 5 calle 10-55 zona 13\, Finca la Aurora\, Guatemala\, Guatemala\, 01013\, Guatemala
CATEGORIES:Artísticas,Expo / Empresas,Gratuitos,Guatemala,Zona 13 y 14
ATTACH;FMTTYPE=image/jpeg:https://boletona.com/wp-content/uploads/2026/03/octava-edicion-.jpg
END:VEVENT
END:VCALENDAR