BEGIN:VCALENDAR
VERSION:2.0
PRODID:-//Boletona - ECPv6.15.20//NONSGML v1.0//EN
CALSCALE:GREGORIAN
METHOD:PUBLISH
X-WR-CALNAME:Boletona
X-ORIGINAL-URL:https://boletona.com
X-WR-CALDESC:Eventos para Boletona
REFRESH-INTERVAL;VALUE=DURATION:PT1H
X-Robots-Tag:noindex
X-PUBLISHED-TTL:PT1H
BEGIN:VTIMEZONE
TZID:America/Chicago
BEGIN:DAYLIGHT
TZOFFSETFROM:-0600
TZOFFSETTO:-0500
TZNAME:CDT
DTSTART:20250309T080000
END:DAYLIGHT
BEGIN:STANDARD
TZOFFSETFROM:-0500
TZOFFSETTO:-0600
TZNAME:CST
DTSTART:20251102T070000
END:STANDARD
BEGIN:DAYLIGHT
TZOFFSETFROM:-0600
TZOFFSETTO:-0500
TZNAME:CDT
DTSTART:20260308T080000
END:DAYLIGHT
BEGIN:STANDARD
TZOFFSETFROM:-0500
TZOFFSETTO:-0600
TZNAME:CST
DTSTART:20261101T070000
END:STANDARD
BEGIN:DAYLIGHT
TZOFFSETFROM:-0600
TZOFFSETTO:-0500
TZNAME:CDT
DTSTART:20270314T080000
END:DAYLIGHT
BEGIN:STANDARD
TZOFFSETFROM:-0500
TZOFFSETTO:-0600
TZNAME:CST
DTSTART:20271107T070000
END:STANDARD
END:VTIMEZONE
BEGIN:VEVENT
DTSTART;TZID=America/Chicago:20260517T190000
DTEND;TZID=America/Chicago:20260517T190000
DTSTAMP:20260419T093314
CREATED:20260311T042754Z
LAST-MODIFIED:20260311T042754Z
UID:2268-1779044400-1779044400@boletona.com
SUMMARY:Leire Martínez: Aquella Niña Tour en Guatemala
DESCRIPTION:El regreso más esperado: Leire Martínez inicia su nueva era en Guatemala \nLa espera ha terminado. Guatemala se prepara para recibir a una de las voces más influyentes y queridas del pop en español: Leire Martínez. Tras años de éxitos globales como la voz principal de La Oreja de Van Gogh\, la intérprete española aterriza en nuestro país con su gira «Aquella Niña Tour»\, una propuesta íntima\, poderosa y profundamente personal que marca su consolidación como solista en este 2026. \nUna evolución artística sin precedentes Este no es solo un concierto; es un reencuentro mágico. En esta nueva etapa\, Leire nos invita a un viaje introspectivo a través de su evolución artística. Con un repertorio que equilibra la nostalgia de su legado con la frescura de sus nuevas composiciones\, el show promete ser una montaña rusa de sentimientos. Veremos a una Leire más empoderada\, dueña de su sonido y conectada directamente con su público guatemalteco. \n¿Qué esperar de Aquella Niña Tour? La producción ha sido diseñada para ofrecer una cercanía exclusiva. Los asistentes disfrutarán de una puesta en escena impecable\, donde la calidad vocal de Leire será la absoluta protagonista. Desde baladas que te erizarán la piel hasta ritmos que celebran la vida y la libertad\, cada minuto de la presentación está cargado de una energía vibrante y una honestidad brutal. \nUn evento imperdible en la cartelera nacional Boletona se enorgullece de ser la vitrina para promocionar este evento de clase mundial. Es la oportunidad perfecta para que los fanáticos de siempre y las nuevas generaciones descubran la esencia pura de «aquella niña» que hoy se presenta como una mujer valiente y una artista extraordinaria. \nNo pierdas la oportunidad de ser testigo de este capítulo histórico en la música latina. La preventa y los detalles logísticos están generando una expectativa masiva\, así que asegúrate de marcar tu calendario y prepararte para una velada fascinante que quedará grabada en tu memoria por siempre.
URL:https://boletona.com/event/leire-martinez-aquella-nina-tour-en-guatemala/
LOCATION:Teatro Lux\, CCE Guatemala\, 2do\, Edificio LUX\, Nivel 11-02\, Guatemala\, Guatemala\, 01001\, Guatemala
CATEGORIES:Escénicas,Guatemala,Música,Pagados,Teatro,Tributo,Zona 1
ATTACH;FMTTYPE=image/jpeg:https://boletona.com/wp-content/uploads/2026/03/pexels-photo-9419400-9419400-scaled.jpg
END:VEVENT
END:VCALENDAR