BEGIN:VCALENDAR
VERSION:2.0
PRODID:-//Boletona - ECPv6.15.20//NONSGML v1.0//EN
CALSCALE:GREGORIAN
METHOD:PUBLISH
X-ORIGINAL-URL:https://boletona.com
X-WR-CALDESC:Eventos para Boletona
REFRESH-INTERVAL;VALUE=DURATION:PT1H
X-Robots-Tag:noindex
X-PUBLISHED-TTL:PT1H
BEGIN:VTIMEZONE
TZID:America/Chicago
BEGIN:DAYLIGHT
TZOFFSETFROM:-0600
TZOFFSETTO:-0500
TZNAME:CDT
DTSTART:20250309T080000
END:DAYLIGHT
BEGIN:STANDARD
TZOFFSETFROM:-0500
TZOFFSETTO:-0600
TZNAME:CST
DTSTART:20251102T070000
END:STANDARD
BEGIN:DAYLIGHT
TZOFFSETFROM:-0600
TZOFFSETTO:-0500
TZNAME:CDT
DTSTART:20260308T080000
END:DAYLIGHT
BEGIN:STANDARD
TZOFFSETFROM:-0500
TZOFFSETTO:-0600
TZNAME:CST
DTSTART:20261101T070000
END:STANDARD
BEGIN:DAYLIGHT
TZOFFSETFROM:-0600
TZOFFSETTO:-0500
TZNAME:CDT
DTSTART:20270314T080000
END:DAYLIGHT
BEGIN:STANDARD
TZOFFSETFROM:-0500
TZOFFSETTO:-0600
TZNAME:CST
DTSTART:20271107T070000
END:STANDARD
END:VTIMEZONE
BEGIN:VEVENT
DTSTART;TZID=America/Chicago:20260326T200000
DTEND;TZID=America/Chicago:20260326T200000
DTSTAMP:20260419T094054
CREATED:20260305T020104Z
LAST-MODIFIED:20260305T020104Z
UID:2084-1774555200-1774555200@boletona.com
SUMMARY:Una Consulta en Guatemala 2026: Comedia y Crítica de Cesia Franco
DESCRIPTION:Una Consulta en Guatemala es la impactante sátira teatral escrita por Cesia Franco que llega al escenario de la Alianza Francesa. Esta comedia muy real nos sumerge en la historia de Gaby\, una mujer embarazada que se enfrenta al «Dr. Fútbol»\, un médico cuya prioridad es la estrategia de juego antes que la salud de sus pacientes. Es una obra extraordinaria que pone el dedo en la llaga sobre temas tan esenciales como la violencia obstétrica. \nAsistir a la función de Una Consulta en Guatemala es una oportunidad única para disfrutar de un humor negro y una crítica mordaz hacia la deshumanización de la salud. La puesta en escena logra que el espectador reflexione mientras se ríe de situaciones que\, aunque parecen absurdas\, son auténticas y dolorosamente cotidianas en nuestro sistema actual. \nTeatro al Aire Libre en la Alianza Francesa\nLa presentación de Una Consulta en Guatemala se llevará a cabo en el jardín de la Alianza Francesa de la zona 13\, brindando un entorno mágico y seguro para disfrutar del arte local. Al ser una función de entrada gratuita\, se convierte en un evento indispensable para quienes buscan teatro de calidad con un mensaje poderoso y transformador. \n¿Por qué ver esta obra de Cesia Franco?\n\n\nTemática Relevante: Una Consulta en Guatemala aborda la violencia obstétrica con una sabiduría y valentía notable. \n\n\nHumor Inteligente: La sátira es brillante\, convirtiendo una situación trágica en una pieza de entretenimiento fascinante. \n\n\nCultura Accesible: Es un evento oficial y gratuito\, lo que permite que el mensaje llegue a un público más amplio y diverso. \n\n\nBoletona.com te invita a no perderte esta pieza majestuosa. Una Consulta en Guatemala es más que teatro; es un grito de libertad y un llamado a la humanización médica a través de una comedia fenomenal e inolvidable.
URL:https://boletona.com/event/una-consulta-en-guatemala/
LOCATION:Alianza Francesa – Guatemala\, 5 calle 10-55 zona 13\, Finca la Aurora\, Guatemala\, Guatemala\, 01013\, Guatemala
CATEGORIES:Comedia,Escénicas,Gratuitos,Guatemala,Teatro,Zona 13 y 14
ATTACH;FMTTYPE=image/png:https://boletona.com/wp-content/uploads/2026/03/21-1.png
END:VEVENT
END:VCALENDAR