BEGIN:VCALENDAR
VERSION:2.0
PRODID:-//Boletona - ECPv6.15.20//NONSGML v1.0//EN
CALSCALE:GREGORIAN
METHOD:PUBLISH
X-ORIGINAL-URL:https://boletona.com
X-WR-CALDESC:Eventos para Boletona
REFRESH-INTERVAL;VALUE=DURATION:PT1H
X-Robots-Tag:noindex
X-PUBLISHED-TTL:PT1H
BEGIN:VTIMEZONE
TZID:America/Chicago
BEGIN:DAYLIGHT
TZOFFSETFROM:-0600
TZOFFSETTO:-0500
TZNAME:CDT
DTSTART:20250309T080000
END:DAYLIGHT
BEGIN:STANDARD
TZOFFSETFROM:-0500
TZOFFSETTO:-0600
TZNAME:CST
DTSTART:20251102T070000
END:STANDARD
BEGIN:DAYLIGHT
TZOFFSETFROM:-0600
TZOFFSETTO:-0500
TZNAME:CDT
DTSTART:20260308T080000
END:DAYLIGHT
BEGIN:STANDARD
TZOFFSETFROM:-0500
TZOFFSETTO:-0600
TZNAME:CST
DTSTART:20261101T070000
END:STANDARD
BEGIN:DAYLIGHT
TZOFFSETFROM:-0600
TZOFFSETTO:-0500
TZNAME:CDT
DTSTART:20270314T080000
END:DAYLIGHT
BEGIN:STANDARD
TZOFFSETFROM:-0500
TZOFFSETTO:-0600
TZNAME:CST
DTSTART:20271107T070000
END:STANDARD
END:VTIMEZONE
BEGIN:VEVENT
DTSTART;TZID=America/Chicago:20260313T200000
DTEND;TZID=America/Chicago:20260313T213000
DTSTAMP:20260425T162747
CREATED:20260302T043707Z
LAST-MODIFIED:20260302T043707Z
UID:1936-1773432000-1773437400@boletona.com
SUMMARY:Defendiendo al Cavernícola: ¡La comedia imperdible que te hará reír a carcajadas!
DESCRIPTION:¿Alguna vez te has preguntado por qué hombres y mujeres parecen hablar idiomas distintos? «Defendiendo al Cavernícola» llega a La Estancia Plazuela (Zona 9) para responder esta y muchas otras interrogantes de la forma más divertida posible. \nEste monólogo aclamado mundialmente es mucho más que una obra de teatro; es una experiencia de reconocimiento mutuo que ha cautivado a miles de parejas y terapeutas por igual. Prepárate para una velada cargada de humor inteligente\, situaciones cotidianas con las que te identificarás de inmediato y ese toque de picardía que hace que el público termine la función con una sonrisa y\, posiblemente\, tomados de la mano. ¡No te pierdas esta oportunidad única de disfrutar de la comedia más honesta sobre las relaciones humanas en la ciudad!
URL:https://boletona.com/event/defendiendo-al-cavernicola-la-comedia-imperdible-que-te-hara-reir-a-carcajadas/
LOCATION:La estancia zona 9\, Avenida Reforma 8-89.\, Guatemala\, Guatemala\, 01001\, Guatemala
CATEGORIES:Comedia,Escénicas,Guatemala,Pagados,Teatro,Zona 9 y 10
ATTACH;FMTTYPE=image/jpeg:https://boletona.com/wp-content/uploads/2026/03/gc69e467fc87fe2319582d510744b5a4693262dd92feec105762288cc9859d79a7c0d92d5fa9ae526834d26214d1fa4c25b00dcdade4eac1a6e9df77ee9d2e332_1280-4731923.jpg
END:VEVENT
END:VCALENDAR