BEGIN:VCALENDAR
VERSION:2.0
PRODID:-//Boletona - ECPv6.15.20//NONSGML v1.0//EN
CALSCALE:GREGORIAN
METHOD:PUBLISH
X-ORIGINAL-URL:https://boletona.com
X-WR-CALDESC:Eventos para Boletona
REFRESH-INTERVAL;VALUE=DURATION:PT1H
X-Robots-Tag:noindex
X-PUBLISHED-TTL:PT1H
BEGIN:VTIMEZONE
TZID:America/Chicago
BEGIN:DAYLIGHT
TZOFFSETFROM:-0600
TZOFFSETTO:-0500
TZNAME:CDT
DTSTART:20250309T080000
END:DAYLIGHT
BEGIN:STANDARD
TZOFFSETFROM:-0500
TZOFFSETTO:-0600
TZNAME:CST
DTSTART:20251102T070000
END:STANDARD
BEGIN:DAYLIGHT
TZOFFSETFROM:-0600
TZOFFSETTO:-0500
TZNAME:CDT
DTSTART:20260308T080000
END:DAYLIGHT
BEGIN:STANDARD
TZOFFSETFROM:-0500
TZOFFSETTO:-0600
TZNAME:CST
DTSTART:20261101T070000
END:STANDARD
BEGIN:DAYLIGHT
TZOFFSETFROM:-0600
TZOFFSETTO:-0500
TZNAME:CDT
DTSTART:20270314T080000
END:DAYLIGHT
BEGIN:STANDARD
TZOFFSETFROM:-0500
TZOFFSETTO:-0600
TZNAME:CST
DTSTART:20271107T070000
END:STANDARD
END:VTIMEZONE
BEGIN:VEVENT
DTSTART;TZID=America/Chicago:20260320T180000
DTEND;TZID=America/Chicago:20260320T180000
DTSTAMP:20260425T112821
CREATED:20260308T155352Z
LAST-MODIFIED:20260308T155352Z
UID:2199-1774029600-1774029600@boletona.com
SUMMARY:Zapravka y Junkie Kid
DESCRIPTION:¡La espera ha terminado para los amantes de los ritmos intensos! Guatemala se prepara para recibir una descarga de adrenalina pura con la llegada de dos gigantes de la escena electrónica internacional: Zapravka y Junkie Kid. Este no es solo un concierto; es una experiencia transformadora diseñada para aquellos que viven y respiran la cultura del hard dance y el techno industrial. \nZapravka\, conocidos por su estética única y su sonido crudo que ha dominado las pistas de baile globales\, llega para demostrar por qué son el fenómeno del momento. Su capacidad para fusionar atmósferas oscuras con ritmos frenéticos garantiza que cada segundo del set sea una explosión de energía constante. Por otro lado\, el legendario Junkie Kid\, el arquitecto del Neo-Hardstyle\, aterriza en tierras guatemaltecas para elevar la temperatura con sus icónicos kicks y melodías hipnóticas que han definido una era en la música electrónica. \nEsta oportunidad única te permitirá sumergirte en una producción de primer nivel\, donde el diseño de luces y la potencia del sonido se alinearán para crear un ambiente alucinante. Es el momento perfecto para conectar con la comunidad\, liberar tensiones y dejarte llevar por la magia de los beats más potentes del planeta. \n¿Por qué no puedes faltar? \n\n\nLine-up de Infarto: Ver a estos dos exponentes en un mismo escenario es un privilegio exclusivo. \n\n\nAtmósfera Incomparable: Un evento diseñado por y para verdaderos fanáticos del género. \n\n\nRecuerdos Memorables: Sé parte de la historia de los mejores eventos de electrónica en Guatemala. \n\n\nEs importante mencionar que Boletona actúa como una vitrina promocional oficial para este evento\, facilitando que no te pierdas ni un solo detalle de esta cita obligatoria. La demanda es masiva y el cupo limitado. No arriesgues tu oportunidad de presenciar este espectáculo legendario. ¡Prepárate para saltar\, vibrar y vivir la noche más intensa de tu vida!
URL:https://boletona.com/event/zapravka-y-junkie-kid/
LOCATION:Casa Scout\, Blvd. Rafael Landívar 2-01 zona 15\, Guatemala\, Guatemala\, 01015\, Guatemala
CATEGORIES:Guatemala,Música,Pagados,Zona 15 y 16
ATTACH;FMTTYPE=image/jpeg:https://boletona.com/wp-content/uploads/2026/03/gf1a381f5efe5cf8e373547eed7d4def30db6fdb1e1f995ba78a1a68baea523528b8721699a0c2e179a335fc68173f7ee6320aab8a242d5569f4ad4d2d8b20550_1280-1867754.jpg
END:VEVENT
BEGIN:VEVENT
DTSTART;TZID=America/Chicago:20260320T180000
DTEND;TZID=America/Chicago:20260320T180000
DTSTAMP:20260425T112821
CREATED:20260310T012545Z
LAST-MODIFIED:20260310T013551Z
UID:2197-1774029600-1774029600@boletona.com
SUMMARY:Zapravka + Junkie Kid en Guatemala
DESCRIPTION:¡La espera ha terminado para los amantes de los ritmos intensos! Guatemala se prepara para recibir una descarga de adrenalina pura con la llegada de dos gigantes de la escena electrónica internacional: Zapravka y Junkie Kid. Este no es solo un concierto; es una experiencia transformadora diseñada para aquellos que viven y respiran la cultura del hard dance y el techno industrial. \nZapravka\, conocidos por su estética única y su sonido crudo que ha dominado las pistas de baile globales\, llega para demostrar por qué son el fenómeno del momento. Su capacidad para fusionar atmósferas oscuras con ritmos frenéticos garantiza que cada segundo del set sea una explosión de energía constante. Por otro lado\, el legendario Junkie Kid\, el arquitecto del Neo-Hardstyle\, aterriza en tierras guatemaltecas para elevar la temperatura con sus icónicos kicks y melodías hipnóticas que han definido una era en la música electrónica. \nEsta oportunidad única te permitirá sumergirte en una producción de primer nivel\, donde el diseño de luces y la potencia del sonido se alinearán para crear un ambiente alucinante. Es el momento perfecto para conectar con la comunidad\, liberar tensiones y dejarte llevar por la magia de los beats más potentes del planeta. \n¿Por qué no puedes faltar? \n\n\nLine-up de Infarto: Ver a estos dos exponentes en un mismo escenario es un privilegio exclusivo. \n\n\nAtmósfera Incomparable: Un evento diseñado por y para verdaderos fanáticos del género. \n\n\nRecuerdos Memorables: Sé parte de la historia de los mejores eventos de electrónica en Guatemala. \n\n\nEs importante mencionar que Boletona actúa como una vitrina promocional oficial para este evento\, facilitando que no te pierdas ni un solo detalle de esta cita obligatoria. La demanda es masiva y el cupo limitado. No arriesgues tu oportunidad de presenciar este espectáculo legendario. ¡Prepárate para saltar\, vibrar y vivir la noche más intensa de tu vida!
URL:https://boletona.com/event/zapravka-junkie-kid-en-guatemala/
LOCATION:Casa Scout\, Blvd. Rafael Landívar 2-01 zona 15\, Guatemala\, Guatemala\, 01015\, Guatemala
CATEGORIES:Electrónica,Guatemala,Música,Pagados,Zona 15 y 16
ATTACH;FMTTYPE=image/jpeg:https://boletona.com/wp-content/uploads/2026/03/pexels-photo-860707-860707-scaled.jpg
END:VEVENT
END:VCALENDAR