BEGIN:VCALENDAR
VERSION:2.0
PRODID:-//Boletona - ECPv6.15.20//NONSGML v1.0//EN
CALSCALE:GREGORIAN
METHOD:PUBLISH
X-WR-CALNAME:Boletona
X-ORIGINAL-URL:https://boletona.com
X-WR-CALDESC:Eventos para Boletona
REFRESH-INTERVAL;VALUE=DURATION:PT1H
X-Robots-Tag:noindex
X-PUBLISHED-TTL:PT1H
BEGIN:VTIMEZONE
TZID:America/Chicago
BEGIN:DAYLIGHT
TZOFFSETFROM:-0600
TZOFFSETTO:-0500
TZNAME:CDT
DTSTART:20250309T080000
END:DAYLIGHT
BEGIN:STANDARD
TZOFFSETFROM:-0500
TZOFFSETTO:-0600
TZNAME:CST
DTSTART:20251102T070000
END:STANDARD
BEGIN:DAYLIGHT
TZOFFSETFROM:-0600
TZOFFSETTO:-0500
TZNAME:CDT
DTSTART:20260308T080000
END:DAYLIGHT
BEGIN:STANDARD
TZOFFSETFROM:-0500
TZOFFSETTO:-0600
TZNAME:CST
DTSTART:20261101T070000
END:STANDARD
BEGIN:DAYLIGHT
TZOFFSETFROM:-0600
TZOFFSETTO:-0500
TZNAME:CDT
DTSTART:20270314T080000
END:DAYLIGHT
BEGIN:STANDARD
TZOFFSETFROM:-0500
TZOFFSETTO:-0600
TZNAME:CST
DTSTART:20271107T070000
END:STANDARD
END:VTIMEZONE
BEGIN:VEVENT
DTSTART;TZID=America/Chicago:20260425T100000
DTEND;TZID=America/Chicago:20260425T100000
DTSTAMP:20260423T074453
CREATED:20260310T040751Z
LAST-MODIFIED:20260310T040751Z
UID:2238-1777111200-1777111200@boletona.com
SUMMARY:Festival del Asado 5ta Edición
DESCRIPTION:¡El fuego se enciende de nuevo! Te invitamos a ser parte de la imperdible 5ta Edición del Festival del Asado\, el punto de encuentro por excelencia para los verdaderos amantes de la carne y la cultura parrillera en Guatemala. Este no es solo un evento de comida; es un espectáculo sensorial diseñado para quienes buscan disfrutar de un día extraordinario rodeados de sabor\, música y convivencia. \nEn esta edición\, el festival eleva la vara con una selección exquisita de expositores y maestros parrilleros que pondrán a prueba sus mejores técnicas frente a las brasas. Desde los cortes más jugosos y tradicionales hasta innovadoras propuestas de autor\, cada bocado está garantizado para ofrecer una explosión de sabor inigualable. Imagina el aroma del carbón\, el sonido de la carne sellándose y la oportunidad de compartir con expertos que dominan el arte del fuego. \nEl ambiente será simplemente magnético. Además de la oferta culinaria\, el festival contará con áreas de entretenimiento\, música en vivo para amenizar la jornada y espacios diseñados para que toda la familia disfrute de una experiencia memorable. Es la oportunidad perfecta para descubrir nuevos sabores\, aprender secretos de la parrilla y disfrutar de una tarde fascinante al aire libre. \nComo vitrina de los mejores eventos en Guatemala\, te traemos esta recomendación para que asegures tu lugar en esta celebración legendaria. La pasión por el asado nos une\, y esta quinta entrega promete ser la más ambiciosa y satisfactoria hasta la fecha. ¡Prepara el apetito y vive el festival que hace rugir a los amantes del buen comer!
URL:https://boletona.com/event/festival-del-asado-5ta-edicion/
LOCATION:Zoológico La Aurora\, Interior Finca La Aurora\, 5 Calle\, Guatemala\, Guatemala\, 01013\, Guatemala
CATEGORIES:Familiar,Pagados,Zona 13 y 14
ATTACH;FMTTYPE=image/jpeg:https://boletona.com/wp-content/uploads/2026/03/ga328084276d5498580825af675a45e10434f49e922a09831c7cc8db6149003dfc1c54dec0d5ac66f4cd582bfad30313e369bb8c73378b517ad8bbcf4c2d727bc_1280-5171549.jpg
END:VEVENT
END:VCALENDAR