BEGIN:VCALENDAR
VERSION:2.0
PRODID:-//Boletona - ECPv6.15.20//NONSGML v1.0//EN
CALSCALE:GREGORIAN
METHOD:PUBLISH
X-ORIGINAL-URL:https://boletona.com
X-WR-CALDESC:Eventos para Boletona
REFRESH-INTERVAL;VALUE=DURATION:PT1H
X-Robots-Tag:noindex
X-PUBLISHED-TTL:PT1H
BEGIN:VTIMEZONE
TZID:America/Chicago
BEGIN:DAYLIGHT
TZOFFSETFROM:-0600
TZOFFSETTO:-0500
TZNAME:CDT
DTSTART:20250309T080000
END:DAYLIGHT
BEGIN:STANDARD
TZOFFSETFROM:-0500
TZOFFSETTO:-0600
TZNAME:CST
DTSTART:20251102T070000
END:STANDARD
BEGIN:DAYLIGHT
TZOFFSETFROM:-0600
TZOFFSETTO:-0500
TZNAME:CDT
DTSTART:20260308T080000
END:DAYLIGHT
BEGIN:STANDARD
TZOFFSETFROM:-0500
TZOFFSETTO:-0600
TZNAME:CST
DTSTART:20261101T070000
END:STANDARD
BEGIN:DAYLIGHT
TZOFFSETFROM:-0600
TZOFFSETTO:-0500
TZNAME:CDT
DTSTART:20270314T080000
END:DAYLIGHT
BEGIN:STANDARD
TZOFFSETFROM:-0500
TZOFFSETTO:-0600
TZNAME:CST
DTSTART:20271107T070000
END:STANDARD
END:VTIMEZONE
BEGIN:VEVENT
DTSTART;TZID=America/Chicago:20261206T060000
DTEND;TZID=America/Chicago:20261206T060000
DTSTAMP:20260419T094958
CREATED:20260305T003613Z
LAST-MODIFIED:20260305T003613Z
UID:2055-1796536800-1796536800@boletona.com
SUMMARY:Festival Run Antigua 2026 en Guatemala: Una Carrera Espectacular y Familiar
DESCRIPTION:La Festival Run Antigua 2026 en Guatemala se posiciona como una de las carreras más encantadoras y memorables del calendario nacional. Este evento invita a atletas y familias a recorrer las calles empedradas de la Antigua Guatemala\, ofreciendo un entorno mágico donde la historia y el deporte se unen en una jornada extraordinaria llena de color y alegría. \nParticipar en la Festival Run Antigua 2026 en Guatemala es una oportunidad excepcional para disfrutar de una ruta espléndida rodeada de monumentos coloniales y volcanes. La logística del evento\, a cargo de Más Deporte\, garantiza una experiencia profesional e impecable\, ideal para quienes buscan un progreso personal o simplemente compartir un momento divertido en la ciudad más famosa del país. \nEl Recorrido de la Festival Run Antigua\nLa ruta de la Festival Run Antigua 2026 en Guatemala destaca por ser pintoresca y accesible para diferentes niveles de condición física. Correr en este escenario es una experiencia sublime que permite a los participantes desplegar su talento mientras se sumergen en la tradición y el ambiente festivo de la región. \n¿Por qué inscribirte en esta carrera?\n\nEntorno Majestuoso: Corres en una ciudad declarada Patrimonio de la Humanidad\, lo que hace cada kilómetro fascinante.\nEvento Familiar: La Festival Run Antigua 2026 en Guatemala está diseñada para que personas de todas las edades vivan una mañana fantástica.\nOrganización de Confianza: Un evento oficial que cuenta con el respaldo técnico necesario para asegurar una competencia segura y vibrante.\n\nBoletona.com es tu plataforma para conocer los detalles de categorías\, entrega de kits e inscripciones para la Festival Run Antigua 2026 en Guatemala. No pierdas la oportunidad de ser parte de este festival deportivo inigualable en el corazón de Sacatepéquez.
URL:https://boletona.com/event/festival-run-antigua-2026/
CATEGORIES:Antigua,Deportivos,Familiar,Pagados
ATTACH;FMTTYPE=image/jpeg:https://boletona.com/wp-content/uploads/2026/03/pexels-photo-13939999-13939999-scaled.jpg
END:VEVENT
END:VCALENDAR